{"text_format":"3","workbook":"xlsx","n_sheets":3,"sheets":["Readme","Register Configuration","RealView .inc"],"not_rendered":{"defined_names":1},"read":"whole","date_system":"1900"}

{"sheet":"Readme","index":0,"n_rows":17,"n_cols":2,"rows_kept":17}
[]
[null,"NOTE"]
[null,"This tool only can be used for i.MX6UL with DDR3."]
[null,"The DDR3/DDR3L interface mode fully complies with JESD79-3E DDR3 JEDEC standard release July,2010."]
[null,"Freescale have right to change this tool without notice."]
[null,"Performance and stability are executed in this tool, no power saving is traded off."]
[]
[null,"HOW TO USE"]
[null,"Fill all \"Orange\"+\"Blue\" cells in \"Register Configuration\" Page,then get advanced DDR script in \"RealView .inc\" Page."]
[null,"Using \"DDR Stress Test Tool\" and generate Write Leveling, DQS Gating,Read and Write Delay Calibration result."]
[null,"Please refer to \"Red\" cells in RealView.inc Tab on where these Calibration results must be updated into the final DDR initialization script."]
[null,"If the result is different with yours, please try to understand the setting and make decision. "]
[null,"Please note that some settings only can impact efferency a little."]
[null,"Please ask DDR device vendor or FSL supporter if any unclear point is existed."]
[]
[null,"Version"]
[null,"0.02 19-May-2016"]

{"sheet":"Register Configuration","index":1,"n_rows":388,"n_cols":35,"rows_kept":388,"merged":[[1,1,1,2],[4,8,15,30],[16,1,16,2],[25,1,25,2],[33,1,34,1],[33,2,34,2],[33,3,34,14],[33,15,34,16],[33,17,34,34],[38,1,39,1],[38,2,39,2],[38,3,39,21],[38,22,39,22],[38,23,39,34],[43,1,44,1],[43,2,44,2],[43,3,44,16],[43,17,44,17],[43,18,44,18],[43,19,44,23],[43,24,44,26],[43,27,44,28],[43,29,44,31],[43,32,44,34],[48,1,49,1],[48,2,49,2],[48,3,49,16],[48,17,49,17],[48,18,49,18],[48,19,49,23],[48,24,49,26],[48,27,49,28],[48,29,49,31],[48,32,49,34],[53,1,54,1],[53,2,54,2],[53,3,54,16],[53,17,54,17],[53,18,54,18],[53,19,54,23],[53,24,54,26],[53,27,54,28],[53,29,54,31],[53,32,54,34],[58,1,59,1],[58,2,59,2],[58,3,59,16],[58,17,59,17],[58,18,59,18],[58,19,59,23],[58,24,59,26],[58,27,59,28],[58,29,59,31],[58,32,59,34],[63,1,64,1],[63,2,64,2],[63,3,64,28],[63,29,64,31],[63,32,64,34],[68,1,69,1],[68,2,69,2],[68,3,69,14],[68,15,69,16],[68,17,69,17],[68,18,69,18],[68,19,69,20],[68,21,69,21],[68,22,69,22],[68,23,69,23],[68,24,69,26],[68,27,69,28],[68,29,69,31],[68,32,69,34],[73,1,74,1],[73,2,74,2],[73,3,74,16],[73,17,74,17],[73,18,74,18],[73,19,74,20],[73,21,74,21],[73,22,74,22],[73,23,74,23],[73,24,74,26],[73,27,74,28],[73,29,74,31],[73,32,74,34],[78,1,79,1],[78,2,79,2],[78,3,79,16],[78,17,79,17],[78,18,79,18],[78,19,79,20],[78,21,79,21],[78,22,79,22],[78,23,79,23],[78,24,79,26],[78,27,79,28],[78,29,79,31],[78,32,79,34],[83,1,84,1],[83,2,84,2],[83,3,84,16],[83,17,84,17],[83,18,84,18],[83,19,84,20],[83,21,84,21],[83,22,84,22],[83,23,84,23],[83,24,84,26],[83,27,84,28],[83,29,84,31],[83,32,84,34],[88,1,89,1],[88,2,89,2],[88,3,89,28],[88,29,89,31],[88,32,89,34],[93,1,94,1],[93,2,94,2],[93,3,94,16],[93,17,94,17],[93,18,94,34],[98,1,99,1],[98,2,99,2],[98,3,99,18],[98,19,99,20],[98,21,99,21],[98,22,99,22],[98,23,99,23],[98,24,99,26],[98,27,99,28],[98,29,99,31],[98,32,99,34],[103,1,104,1],[103,2,104,2],[103,3,104,18],[103,19,104,20],[103,21,104,21],[103,22,104,22],[103,23,104,23],[103,24,104,26],[103,27,104,28],[103,29,104,31],[103,32,104,34],[108,1,109,1],[108,2,109,2],[108,3,109,18],[108,19,109,20],[108,21,109,21],[108,22,109,22],[108,23,109,23],[108,24,109,26],[108,27,109,28],[108,29,109,31],[108,32,109,34],[113,1,114,1],[113,2,114,2],[113,3,114,18],[113,19,114,20],[113,21,114,21],[113,22,114,22],[113,23,114,23],[113,24,114,26],[113,27,114,28],[113,29,114,31],[113,32,114,34],[118,1,119,1],[118,2,119,2],[118,3,119,18],[118,19,119,20],[118,21,119,21],[118,22,119,22],[118,23,119,23],[118,24,119,26],[118,27,119,28],[118,29,119,31],[118,32,119,34],[123,1,124,1],[123,2,124,2],[123,3,124,18],[123,19,124,20],[123,21,124,21],[123,22,124,22],[123,23,124,23],[123,24,124,26],[123,27,124,28],[123,29,124,31],[123,32,124,34],[128,1,129,1],[128,2,129,2],[128,3,129,18],[128,19,129,20],[128,21,129,21],[128,22,129,22],[128,23,129,23],[128,24,129,26],[128,27,129,28],[128,29,129,31],[128,32,129,34],[133,1,134,1],[133,2,134,2],[133,3,134,18],[133,19,134,20],[133,21,134,21],[133,22,134,22],[133,23,134,23],[133,24,134,26],[133,27,134,28],[133,29,134,31],[133,32,134,34],[138,1,139,1],[138,2,139,2],[138,3,139,16],[138,17,139,17],[138,18,139,34],[143,1,144,1],[143,2,144,2],[143,3,144,28],[143,29,144,31],[143,32,144,34],[148,1,149,1],[148,2,149,2],[148,3,149,28],[148,29,149,31],[148,32,149,34],[153,1,154,1],[153,2,154,2],[153,3,154,28],[153,29,154,31],[153,32,154,34],[158,1,159,1],[158,2,159,2],[158,3,159,28],[158,29,159,31],[158,32,159,34],[163,1,164,1],[163,2,164,2],[163,3,164,28],[163,29,164,31],[163,32,164,34],[168,1,169,1],[168,2,169,2],[168,3,169,28],[168,29,169,31],[168,32,169,34],[173,1,174,1],[173,2,174,2],[173,3,174,28],[173,29,174,31],[173,32,174,34],[178,1,179,1],[178,2,179,2],[178,3,179,28],[178,29,179,31],[178,32,179,34],[183,1,184,1],[183,2,184,2],[183,3,184,16],[183,17,184,17],[183,18,184,18],[183,19,184,23],[183,24,184,26],[183,27,184,28],[183,29,184,31],[183,32,184,34],[188,1,189,1],[188,2,189,2],[188,3,189,16],[188,17,189,17],[188,18,189,18],[188,19,189,23],[188,24,189,26],[188,27,189,28],[188,29,189,31],[188,32,189,34],[193,1,194,1],[193,2,194,2],[193,3,194,16],[193,17,194,17],[193,18,194,18],[193,19,194,23],[193,24,194,26],[193,27,194,28],[193,29,194,31],[193,32,194,34],[198,1,199,1],[198,2,199,2],[198,3,199,16],[198,17,199,17],[198,18,199,18],[198,19,199,23],[198,24,199,26],[198,27,199,28],[198,29,199,31],[198,32,199,34],[203,1,204,1],[203,2,204,2],[203,3,204,16],[203,17,204,17],[203,18,204,18],[203,19,204,23],[203,24,204,26],[203,27,204,28],[203,29,204,31],[203,32,204,34],[208,1,209,1],[208,2,209,2],[208,3,209,16],[208,17,209,17],[208,18,209,18],[208,19,209,23],[208,24,209,26],[208,27,209,28],[208,29,209,31],[208,32,209,34],[213,1,214,1],[213,2,214,2],[213,3,214,16],[213,17,214,17],[213,18,214,18],[213,19,214,23],[213,24,214,26],[213,27,214,28],[213,29,214,31],[213,32,214,34],[218,1,219,1],[218,2,219,2],[218,3,219,16],[218,17,219,17],[218,18,219,18],[218,19,219,23],[218,24,219,26],[218,27,219,28],[218,29,219,31],[218,32,219,34],[223,1,224,1],[223,2,224,2],[223,3,224,7],[223,8,224,8],[223,9,224,11],[223,12,224,14],[223,15,224,17],[223,18,224,18],[223,19,224,28],[223,29,224,32],[223,33,224,34],[228,1,229,1],[228,2,229,2],[228,3,229,7],[228,8,229,9],[228,10,229,10],[228,11,229,11],[228,12,229,18],[228,19,229,23],[228,24,229,25],[228,26,229,26],[228,27,229,27],[228,28,229,34],[234,1,235,1],[234,2,235,2],[234,3,235,7],[234,8,235,9],[234,10,235,10],[234,11,235,11],[234,12,235,18],[234,19,235,23],[234,24,235,25],[234,26,235,26],[234,27,235,27],[234,28,235,34],[240,1,241,1],[240,2,241,2],[240,3,241,3],[240,4,241,4],[240,5,241,5],[240,6,241,6],[240,7,241,10],[240,11,241,11],[240,12,241,18],[240,19,241,22],[240,23,241,26],[240,27,241,27],[240,28,241,34],[246,1,247,1],[246,2,247,2],[246,3,247,6],[246,7,247,10],[246,11,247,11],[246,12,247,18],[246,19,247,22],[246,23,247,26],[246,27,247,27],[246,28,247,34],[252,1,253,1],[252,2,253,2],[252,3,253,3],[252,4,253,10],[252,11,253,11],[252,12,253,18],[252,19,253,19],[252,20,253,26],[252,27,253,27],[252,28,253,34],[258,1,259,1],[258,2,259,2],[258,3,259,3],[258,4,259,10],[258,11,259,11],[258,12,259,18],[258,19,259,19],[258,20,259,26],[258,27,259,27],[258,28,259,34],[264,1,265,1],[264,2,265,2],[264,3,265,3],[264,4,265,6],[264,7,265,7],[264,8,265,10],[264,11,265,11],[264,12,265,14],[264,15,265,15],[264,16,265,18],[264,19,265,19],[264,20,265,22],[264,23,265,23],[264,24,265,26],[264,27,265,27],[264,28,265,30],[264,31,265,31],[264,32,265,34],[270,1,271,1],[270,2,271,2],[270,3,271,3],[270,4,271,6],[270,7,271,7],[270,8,271,10],[270,11,271,11],[270,12,271,14],[270,15,271,15],[270,16,271,18],[270,19,271,19],[270,20,271,22],[270,23,271,23],[270,24,271,26],[270,27,271,27],[270,28,271,30],[270,31,271,31],[270,32,271,34],[276,1,277,1],[276,2,277,2],[276,3,277,3],[276,4,277,6],[276,7,277,7],[276,8,277,10],[276,11,277,11],[276,12,277,14],[276,15,277,15],[276,16,277,18],[276,19,277,19],[276,20,277,22],[276,23,277,23],[276,24,277,26],[276,27,277,27],[276,28,277,30],[276,31,277,31],[276,32,277,34],[282,1,283,1],[282,2,283,2],[282,3,283,3],[282,4,283,6],[282,7,283,7],[282,8,283,10],[282,11,283,11],[282,12,283,14],[282,15,283,15],[282,16,283,18],[282,19,283,19],[282,20,283,22],[282,23,283,23],[282,24,283,26],[282,27,283,27],[282,28,283,30],[282,31,283,31],[282,32,283,34],[288,1,289,1],[288,2,289,2],[288,3,289,3],[288,4,289,6],[288,7,289,9],[288,10,289,12],[288,13,289,15],[288,16,289,18],[288,19,289,19],[288,20,289,22],[288,23,289,25],[288,26,289,28],[288,29,289,31],[288,32,289,34],[294,1,295,1],[294,2,295,2],[294,3,295,22],[294,23,295,23],[294,24,295,24],[294,25,295,34],[300,1,301,1],[300,2,301,2],[300,3,301,3],[300,4,301,6],[300,7,301,7],[300,8,301,10],[300,11,301,15],[300,16,301,18],[300,19,301,22],[300,23,301,26],[300,27,301,27],[300,28,301,28],[300,29,301,31],[300,32,301,34],[305,1,306,1],[305,2,306,2],[305,3,306,4],[305,5,306,7],[305,8,306,10],[305,11,306,14],[305,15,306,18],[305,19,306,19],[305,20,306,22],[305,23,306,25],[305,26,306,30],[305,31,306,34],[310,1,311,1],[310,2,311,2],[310,3,311,10],[310,11,311,18],[310,19,311,21],[310,22,311,25],[310,26,311,30],[310,31,311,34],[315,1,316,1],[315,2,316,2],[315,3,316,5],[315,6,316,8],[315,9,316,13],[315,14,316,18],[315,19,316,19],[315,20,316,22],[315,23,316,25],[315,26,316,29],[315,30,316,31],[315,32,316,34],[320,1,321,1],[320,2,321,2],[320,3,321,9],[320,10,321,18],[320,19,321,25],[320,26,321,28],[320,29,321,31],[320,32,321,34],[325,1,326,1],[325,2,326,2],[325,3,326,12],[325,13,326,13],[325,14,326,14],[325,15,326,15],[325,16,326,16],[325,17,326,18],[325,19,326,21],[325,22,326,22],[325,23,326,23],[325,24,326,25],[325,26,326,28],[325,29,326,29],[325,30,326,31],[325,32,326,32],[325,33,326,33],[325,34,326,34],[330,1,331,1],[330,2,331,2],[330,3,331,10],[330,11,331,18],[330,19,331,19],[330,20,331,24],[330,25,331,25],[330,26,331,27],[330,28,331,30],[330,31,331,31],[330,32,331,34],[335,1,336,1],[335,2,336,2],[335,3,336,5],[335,6,336,18],[335,19,336,19],[335,20,336,22],[335,23,336,25],[335,26,336,28],[335,29,336,31],[335,32,336,34],[340,1,341,1],[340,2,341,2],[340,3,341,10],[340,11,341,18],[340,19,341,20],[340,21,341,26],[340,27,341,28],[340,29,341,34],[345,1,346,1],[345,2,346,2],[345,3,346,27],[345,28,346,34],[350,1,351,1],[350,2,351,2],[350,3,351,3],[350,4,351,4],[350,5,351,7],[350,8,351,10],[350,11,351,11],[350,12,351,14],[350,15,351,15],[350,16,351,16],[350,17,351,18],[350,19,351,34],[355,1,356,1],[355,2,356,2],[355,3,356,10],[355,11,356,18],[355,19,356,19],[355,20,356,24],[355,25,356,25],[355,26,356,27],[355,28,356,30],[355,31,356,31],[355,32,356,34],[369,1,370,1],[369,2,370,2],[369,3,370,18],[369,19,370,20],[369,21,370,23],[369,24,370,33],[369,34,370,34],[374,1,375,1],[374,2,375,2],[374,3,375,15],[374,16,375,18],[374,19,375,19],[374,20,375,22],[374,23,375,23],[374,24,375,26],[374,27,375,27],[374,28,375,30],[374,31,375,31],[374,32,375,32],[374,33,375,33],[374,34,375,34],[380,1,381,1],[380,2,381,2],[380,3,381,3],[380,4,381,6],[380,7,381,7],[380,8,381,10],[380,11,381,15],[380,16,381,18],[380,19,381,22],[380,23,381,26],[380,27,381,27],[380,28,381,28],[380,29,381,31],[380,32,381,34],[385,1,386,1],[385,2,386,2],[385,3,386,12],[385,13,386,13],[385,14,386,14],[385,15,386,18],[385,19,386,26],[385,27,386,33],[385,34,386,34]]}
[]
[null,"Device Information"]
[null,"Manufacturer:","Micron"]
[null,"Memory part number:","MT41K256M16HA-125"]
[null,"Memory type:","DDR3-1600",{"$f":"IF(MID(C5,6,3)=\"160\",1600,IF(MID(C5,6,3)=\"133\",1333,IF(MID(C5,6,3)=\"106\",1066,800)))","v":1600},{"$nulls":4},"Please note that all \"Orange\" and \"Blue\" Cells must be correct, they will impact the validity of register value and register address in Page \"RealView .inc\"."]
[null,"DRAM density (Gb)",4]
[null,"DRAM Bus Width",16]
[null,"Number of Banks",8]
[null,"Number of ROW Addresses",15]
[null,"Number of COLUMN Addresses",10]
[null,"Page Size (K)",2]
[null,"Self-Refresh Temperature (SRT)","Extended"]
[null,"CAS READ latency (CL)",8]
[null,"tRCD=tRP=CL (ns)",13.75]
[null,"tRC Min (ns)",48.75]
[null,"tRAS Min (ns)",35]
[null,"System Information"]
[null,"i.Mx Part","i.MX6UL"]
[null,"Bus Width",16,{"$f":"IF(C18=\"i.Mx6S\",IF(C19>32,\"i.Mx6S doesn't support more than 32bit Memory bus\",\"\"),\"\")","v":""}]
[null,"Density per chip select (Gb)",4]
[null,"Number of Chip Selects used",1,"If only one CS is used, that must be CS0."]
[null,"Total DRAM Density (Gb)",{"$f":"C20*C21","v":4}]
[null,"DRAM Clock Freq (MHz)",400]
[null,"DRAM Clock Cycle Time (ns)",{"$f":"IF(ROUNDUP((1/C23)*1000,3)>=2000/D5,ROUNDUP(1000/C23,3),\"Out of Range\")","v":2.5}]
[null,"Address Mirror (for CS1)","Disable",{"$f":"IF(C21=1,IF(C25=\"Enable\",\"This function only can be used for CS1(Two CS use case)\",\"\"),\"\")","v":""}]
[null,"SI Configuration"]
[null,"DRAM DSE Setting - DQ/DQM (ohm)",48]
[null,"DRAM DSE Setting - ADDR/CMD/CTL (ohm)",48]
[null,"DRAM DSE Setting - CK (ohm)",48]
[null,"DRAM DSE Setting - DQS (ohm)",48]
[null,"System ODT Setting (ohm)",60]
[]
[null,"Register address (HEX): ","register value (hex)",31,30,29,28,27,26,25,24,23,22,21,20,19,18,17,16,15,14,13,12,11,10,9,8,7,6,5,4,3,2,1,0]
[null,"GRP_DDR_TYPE",{"$nulls":13},"DDR_SEL"]
[]
[null,"0x020e04b4",{"$f":"BIN2HEX(D36&E36&F36&G36)&BIN2HEX(H36&I36&J36&K36)&BIN2HEX(L36&M36&N36&O36)&BIN2HEX(P36&Q36&R36&S36)&BIN2HEX(T36&U36&V36&W36)&BIN2HEX(X36&Y36&Z36&AA36)&BIN2HEX(AB36&AC36&AD36&AE36)&BIN2HEX(AF36&AG36&AH36&AI36)","v":"000C0000"},0,0,0,0,0,0,0,0,0,0,0,0,1,1,0,0,0,0,0,0,0,0,0,0,0,0,0,0,0,0,0,0]
[]
[null,"Register address (HEX): ",null,31,30,29,28,27,26,25,24,23,22,21,20,19,18,17,16,15,14,13,12,11,10,9,8,7,6,5,4,3,2,1,0]
[null,"GRP_DDRPKE",{"$nulls":20},"PKE"]
[]
[null,"0x020e04ac",{"$f":"BIN2HEX(D41&E41&F41&G41)&BIN2HEX(H41&I41&J41&K41)&BIN2HEX(L41&M41&N41&O41)&BIN2HEX(P41&Q41&R41&S41)&BIN2HEX(T41&U41&V41&W41)&BIN2HEX(X41&Y41&Z41&AA41)&BIN2HEX(AB41&AC41&AD41&AE41)&BIN2HEX(AF41&AG41&AH41&AI41)","v":"00000000"},0,0,0,0,0,0,0,0,0,0,0,0,0,0,0,0,0,0,0,0,0,0,0,0,0,0,0,0,0,0,0,0]
[]
[null,"Register address (HEX): ","register value (hex)",31,30,29,28,27,26,25,24,23,22,21,20,19,18,17,16,15,14,13,12,11,10,9,8,7,6,5,4,3,2,1,0]
[null,"DRAM_SDCLK0_P",{"$nulls":15},"DDR_INPUT","HYS",{"$nulls":5},"ODT",{"$nulls":4},"DSE"]
[]
[null,"0x020e027c",{"$f":"BIN2HEX(D46&E46&F46&G46)&BIN2HEX(H46&I46&J46&K46)&BIN2HEX(L46&M46&N46&O46)&BIN2HEX(P46&Q46&R46&S46)&BIN2HEX(T46&U46&V46&W46)&BIN2HEX(X46&Y46&Z46&AA46)&BIN2HEX(AB46&AC46&AD46&AE46)&BIN2HEX(AF46&AG46&AH46&AI46)","v":"00000028"},0,0,0,0,0,0,0,0,0,0,0,0,0,0,0,0,0,0,0,0,0,0,0,0,0,0,{"$f":"MOD(ROUNDDOWN(ROUNDDOWN(240/C29,0)/4,0),2)","v":1},{"$f":"MOD(ROUNDDOWN(ROUNDDOWN(240/C29,0)/2,0),2)","v":0},{"$f":"MOD(ROUNDDOWN(240/C29,0),2)","v":1},0,0,0]
[]
[null,"Register address (HEX): ","register value (hex)",31,30,29,28,27,26,25,24,23,22,21,20,19,18,17,16,15,14,13,12,11,10,9,8,7,6,5,4,3,2,1,0]
[null,"DRAM_SDCLK1_P",{"$nulls":15},"DDR_INPUT","HYS",{"$nulls":5},"ODT",{"$nulls":4},"DSE"]
[]
[null,null,{"$f":"BIN2HEX(D51&E51&F51&G51)&BIN2HEX(H51&I51&J51&K51)&BIN2HEX(L51&M51&N51&O51)&BIN2HEX(P51&Q51&R51&S51)&BIN2HEX(T51&U51&V51&W51)&BIN2HEX(X51&Y51&Z51&AA51)&BIN2HEX(AB51&AC51&AD51&AE51)&BIN2HEX(AF51&AG51&AH51&AI51)","v":"00000028"},0,0,0,0,0,0,0,0,0,0,0,0,0,0,0,0,0,0,0,0,0,0,0,0,0,0,{"$f":"MOD(ROUNDDOWN(ROUNDDOWN(240/C29,0)/4,0),2)","v":1},{"$f":"MOD(ROUNDDOWN(ROUNDDOWN(240/C29,0)/2,0),2)","v":0},{"$f":"MOD(ROUNDDOWN(240/C29,0),2)","v":1},0,0,0]
[]
[null,"Register address (HEX): ","register value (hex)",31,30,29,28,27,26,25,24,23,22,21,20,19,18,17,16,15,14,13,12,11,10,9,8,7,6,5,4,3,2,1,0]
[null,"DRAM_CAS_B",{"$nulls":15},"DDR_INPUT","HYS",{"$nulls":5},"ODT",{"$nulls":4},"DSE"]
[]
[null,"0x020e0250",{"$f":"BIN2HEX(D56&E56&F56&G56)&BIN2HEX(H56&I56&J56&K56)&BIN2HEX(L56&M56&N56&O56)&BIN2HEX(P56&Q56&R56&S56)&BIN2HEX(T56&U56&V56&W56)&BIN2HEX(X56&Y56&Z56&AA56)&BIN2HEX(AB56&AC56&AD56&AE56)&BIN2HEX(AF56&AG56&AH56&AI56)","v":"00000028"},0,0,0,0,0,0,0,0,0,0,0,0,0,0,0,0,0,0,0,0,0,0,0,0,0,0,{"$f":"MOD(ROUNDDOWN(ROUNDDOWN(240/C28,0)/4,0),2)","v":1},{"$f":"MOD(ROUNDDOWN(ROUNDDOWN(240/C28,0)/2,0),2)","v":0},{"$f":"MOD(ROUNDDOWN(240/C28,0),2)","v":1},0,0,0]
[]
[null,"Register address (HEX): ","register value (hex)",31,30,29,28,27,26,25,24,23,22,21,20,19,18,17,16,15,14,13,12,11,10,9,8,7,6,5,4,3,2,1,0]
[null,"DRAM_RAS_B",{"$nulls":15},"DDR_INPUT","HYS",{"$nulls":5},"ODT",{"$nulls":4},"DSE"]
[]
[null,"0x020e024c",{"$f":"BIN2HEX(D61&E61&F61&G61)&BIN2HEX(H61&I61&J61&K61)&BIN2HEX(L61&M61&N61&O61)&BIN2HEX(P61&Q61&R61&S61)&BIN2HEX(T61&U61&V61&W61)&BIN2HEX(X61&Y61&Z61&AA61)&BIN2HEX(AB61&AC61&AD61&AE61)&BIN2HEX(AF61&AG61&AH61&AI61)","v":"00000028"},0,0,0,0,0,0,0,0,0,0,0,0,0,0,0,0,0,0,0,0,0,0,0,0,0,0,{"$f":"MOD(ROUNDDOWN(ROUNDDOWN(240/C28,0)/4,0),2)","v":1},{"$f":"MOD(ROUNDDOWN(ROUNDDOWN(240/C28,0)/2,0),2)","v":0},{"$f":"MOD(ROUNDDOWN(240/C28,0),2)","v":1},0,0,0]
[]
[null,"Register address (HEX): ","register value (hex)",31,30,29,28,27,26,25,24,23,22,21,20,19,18,17,16,15,14,13,12,11,10,9,8,7,6,5,4,3,2,1,0]
[null,"GRP_ADDDS",{"$nulls":27},"DSE"]
[]
[null,"0x020e0490",{"$f":"BIN2HEX(D66&E66&F66&G66)&BIN2HEX(H66&I66&J66&K66)&BIN2HEX(L66&M66&N66&O66)&BIN2HEX(P66&Q66&R66&S66)&BIN2HEX(T66&U66&V66&W66)&BIN2HEX(X66&Y66&Z66&AA66)&BIN2HEX(AB66&AC66&AD66&AE66)&BIN2HEX(AF66&AG66&AH66&AI66)","v":"00000028"},0,0,0,0,0,0,0,0,0,0,0,0,0,0,0,0,0,0,0,0,0,0,0,0,0,0,{"$f":"MOD(ROUNDDOWN(ROUNDDOWN(240/C28,0)/4,0),2)","v":1},{"$f":"MOD(ROUNDDOWN(ROUNDDOWN(240/C28,0)/2,0),2)","v":0},{"$f":"MOD(ROUNDDOWN(240/C28,0),2)","v":1},0,0,0]
[]
[null,"Register address (HEX): ","register value (hex)",31,30,29,28,27,26,25,24,23,22,21,20,19,18,17,16,15,14,13,12,11,10,9,8,7,6,5,4,3,2,1,0]
[null,"DRAM_RESET",{"$nulls":13},"DDR_SEL",null,"DDR_INPUT","HYS","PUS",null,"PUE","PKE",null,"ODT",{"$nulls":4},"DSE"]
[]
[null,"0x020e0288",{"$f":"BIN2HEX(D71&E71&F71&G71)&BIN2HEX(H71&I71&J71&K71)&BIN2HEX(L71&M71&N71&O71)&BIN2HEX(P71&Q71&R71&S71)&BIN2HEX(T71&U71&V71&W71)&BIN2HEX(X71&Y71&Z71&AA71)&BIN2HEX(AB71&AC71&AD71&AE71)&BIN2HEX(AF71&AG71&AH71&AI71)","v":"00000028"},0,0,0,0,0,0,0,0,0,0,0,0,0,0,0,0,0,0,0,0,0,0,0,0,0,0,{"$f":"MOD(ROUNDDOWN(ROUNDDOWN(240/C28,0)/4,0),2)","v":1},{"$f":"MOD(ROUNDDOWN(ROUNDDOWN(240/C28,0)/2,0),2)","v":0},{"$f":"MOD(ROUNDDOWN(240/C28,0),2)","v":1},0,0,0]
[]
[null,"Register address (HEX): ","register value (hex)",31,30,29,28,27,26,25,24,23,22,21,20,19,18,17,16,15,14,13,12,11,10,9,8,7,6,5,4,3,2,1,0]
[null,"DRAM_SDBA2",{"$nulls":15},"DDR_INPUT","HYS",null,null,"PUE","PKE",null,"ODT"]
[]
[null,"0x020e0270",{"$f":"BIN2HEX(D76&E76&F76&G76)&BIN2HEX(H76&I76&J76&K76)&BIN2HEX(L76&M76&N76&O76)&BIN2HEX(P76&Q76&R76&S76)&BIN2HEX(T76&U76&V76&W76)&BIN2HEX(X76&Y76&Z76&AA76)&BIN2HEX(AB76&AC76&AD76&AE76)&BIN2HEX(AF76&AG76&AH76&AI76)","v":"00000000"},0,0,0,0,0,0,0,0,0,0,0,0,0,0,0,0,0,0,0,0,0,0,0,0,0,0,0,0,0,0,0,0]
[]
[null,"Register address (HEX): ","register value (hex)",31,30,29,28,27,26,25,24,23,22,21,20,19,18,17,16,15,14,13,12,11,10,9,8,7,6,5,4,3,2,1,0]
[null,"DRAM_ODT0",{"$nulls":15},"DDR_INPUT","HYS","PUS",null,"PUE","PKE",null,"ODT",{"$nulls":4},"DSE"]
[]
[null,"0x020e0260",{"$f":"BIN2HEX(D81&E81&F81&G81)&BIN2HEX(H81&I81&J81&K81)&BIN2HEX(L81&M81&N81&O81)&BIN2HEX(P81&Q81&R81&S81)&BIN2HEX(T81&U81&V81&W81)&BIN2HEX(X81&Y81&Z81&AA81)&BIN2HEX(AB81&AC81&AD81&AE81)&BIN2HEX(AF81&AG81&AH81&AI81)","v":"00000028"},0,0,0,0,0,0,0,0,0,0,0,0,0,0,0,0,0,0,0,0,0,0,0,0,0,0,{"$f":"MOD(ROUNDDOWN(ROUNDDOWN(240/C28,0)/4,0),2)","v":1},{"$f":"MOD(ROUNDDOWN(ROUNDDOWN(240/C28,0)/2,0),2)","v":0},{"$f":"MOD(ROUNDDOWN(240/C28,0),2)","v":1},0,0,0]
[]
[null,"Register address (HEX): ","register value (hex)",31,30,29,28,27,26,25,24,23,22,21,20,19,18,17,16,15,14,13,12,11,10,9,8,7,6,5,4,3,2,1,0]
[null,"DRAM_ODT1",{"$nulls":15},"DDR_INPUT","HYS","PUS",null,"PUE","PKE",null,"ODT",{"$nulls":4},"DSE"]
[]
[null,"0x020e0264",{"$f":"BIN2HEX(D86&E86&F86&G86)&BIN2HEX(H86&I86&J86&K86)&BIN2HEX(L86&M86&N86&O86)&BIN2HEX(P86&Q86&R86&S86)&BIN2HEX(T86&U86&V86&W86)&BIN2HEX(X86&Y86&Z86&AA86)&BIN2HEX(AB86&AC86&AD86&AE86)&BIN2HEX(AF86&AG86&AH86&AI86)","v":"00000028"},0,0,0,0,0,0,0,0,0,0,0,0,0,0,0,0,0,0,0,0,0,0,0,0,0,0,{"$f":"MOD(ROUNDDOWN(ROUNDDOWN(240/C28,0)/4,0),2)","v":1},{"$f":"MOD(ROUNDDOWN(ROUNDDOWN(240/C28,0)/2,0),2)","v":0},{"$f":"MOD(ROUNDDOWN(240/C28,0),2)","v":1},0,0,0]
[]
[null,"Register address (HEX):","register value (hex)",31,30,29,28,27,26,25,24,23,22,21,20,19,18,17,16,15,14,13,12,11,10,9,8,7,6,5,4,3,2,1,0]
[null," GRP_CTLDS",{"$nulls":27},"DSE"]
[]
[null,"0x020e04a0",{"$f":"BIN2HEX(D91&E91&F91&G91)&BIN2HEX(H91&I91&J91&K91)&BIN2HEX(L91&M91&N91&O91)&BIN2HEX(P91&Q91&R91&S91)&BIN2HEX(T91&U91&V91&W91)&BIN2HEX(X91&Y91&Z91&AA91)&BIN2HEX(AB91&AC91&AD91&AE91)&BIN2HEX(AF91&AG91&AH91&AI91)","v":"00000028"},0,0,0,0,0,0,0,0,0,0,0,0,0,0,0,0,0,0,0,0,0,0,0,0,0,0,{"$f":"MOD(ROUNDDOWN(ROUNDDOWN(240/C28,0)/4,0),2)","v":1},{"$f":"MOD(ROUNDDOWN(ROUNDDOWN(240/C28,0)/2,0),2)","v":0},{"$f":"MOD(ROUNDDOWN(240/C28,0),2)","v":1},0,0,0]
[]
[null,"Register address (HEX): ","register value (hex)",31,30,29,28,27,26,25,24,23,22,21,20,19,18,17,16,15,14,13,12,11,10,9,8,7,6,5,4,3,2,1,0]
[null,"GRP_DDRMODE_CTL",{"$nulls":15},"DDR_INPUT"]
[]
[null,"0x020e0494",{"$f":"BIN2HEX(D96&E96&F96&G96)&BIN2HEX(H96&I96&J96&K96)&BIN2HEX(L96&M96&N96&O96)&BIN2HEX(P96&Q96&R96&S96)&BIN2HEX(T96&U96&V96&W96)&BIN2HEX(X96&Y96&Z96&AA96)&BIN2HEX(AB96&AC96&AD96&AE96)&BIN2HEX(AF96&AG96&AH96&AI96)","v":"00020000"},0,0,0,0,0,0,0,0,0,0,0,0,0,0,1,0,0,0,0,0,0,0,0,0,0,0,0,0,0,0,0,0]
[]
[null,"Register address (HEX): ","register value (hex)",31,30,29,28,27,26,25,24,23,22,21,20,19,18,17,16,15,14,13,12,11,10,9,8,7,6,5,4,3,2,1,0]
[null,"DRAM_SDQS0_P",{"$nulls":17},"PUS",null,"PUE","PKE",null,"ODT",{"$nulls":4},"DSE"]
[]
[null,"0x020e0280",{"$f":"BIN2HEX(D101&E101&F101&G101)&BIN2HEX(H101&I101&J101&K101)&BIN2HEX(L101&M101&N101&O101)&BIN2HEX(P101&Q101&R101&S101)&BIN2HEX(T101&U101&V101&W101)&BIN2HEX(X101&Y101&Z101&AA101)&BIN2HEX(AB101&AC101&AD101&AE101)&BIN2HEX(AF101&AG101&AH101&AI101)","v":"00000028"},0,0,0,0,0,0,0,0,0,0,0,0,0,0,0,0,0,0,0,0,0,0,0,0,0,0,{"$f":"MOD(ROUNDDOWN(ROUNDDOWN(240/C30,0)/4,0),2)","v":1},{"$f":"MOD(ROUNDDOWN(ROUNDDOWN(240/C30,0)/2,0),2)","v":0},{"$f":"MOD(ROUNDDOWN(240/C30,0),2)","v":1},0,0,0]
[]
[null,"Register address (HEX): ","register value (hex)",31,30,29,28,27,26,25,24,23,22,21,20,19,18,17,16,15,14,13,12,11,10,9,8,7,6,5,4,3,2,1,0]
[null,"DRAM_SDQS1_P",{"$nulls":17},"PUS",null,"PUE","PKE",null,"ODT",{"$nulls":4},"DSE"]
[]
[null,"0x020e0284",{"$f":"BIN2HEX(D106&E106&F106&G106)&BIN2HEX(H106&I106&J106&K106)&BIN2HEX(L106&M106&N106&O106)&BIN2HEX(P106&Q106&R106&S106)&BIN2HEX(T106&U106&V106&W106)&BIN2HEX(X106&Y106&Z106&AA106)&BIN2HEX(AB106&AC106&AD106&AE106)&BIN2HEX(AF106&AG106&AH106&AI106)","v":"00000028"},0,0,0,0,0,0,0,0,0,0,0,0,0,0,0,0,0,0,0,0,0,0,0,0,0,0,{"$f":"MOD(ROUNDDOWN(ROUNDDOWN(240/C30,0)/4,0),2)","v":1},{"$f":"MOD(ROUNDDOWN(ROUNDDOWN(240/C30,0)/2,0),2)","v":0},{"$f":"MOD(ROUNDDOWN(240/C30,0),2)","v":1},0,0,0]
[]
[null,"Register address (HEX): ","register value (hex)",31,30,29,28,27,26,25,24,23,22,21,20,19,18,17,16,15,14,13,12,11,10,9,8,7,6,5,4,3,2,1,0]
[null,"DRAM_SDQS2_P",{"$nulls":17},"PUS",null,"PUE","PKE",null,"ODT",{"$nulls":4},"DSE"]
[]
[null,null,{"$f":"BIN2HEX(D111&E111&F111&G111)&BIN2HEX(H111&I111&J111&K111)&BIN2HEX(L111&M111&N111&O111)&BIN2HEX(P111&Q111&R111&S111)&BIN2HEX(T111&U111&V111&W111)&BIN2HEX(X111&Y111&Z111&AA111)&BIN2HEX(AB111&AC111&AD111&AE111)&BIN2HEX(AF111&AG111&AH111&AI111)","v":"00000028"},0,0,0,0,0,0,0,0,0,0,0,0,0,0,0,0,0,0,0,0,0,0,0,0,0,0,{"$f":"MOD(ROUNDDOWN(ROUNDDOWN(240/C30,0)/4,0),2)","v":1},{"$f":"MOD(ROUNDDOWN(ROUNDDOWN(240/C30,0)/2,0),2)","v":0},{"$f":"MOD(ROUNDDOWN(240/C30,0),2)","v":1},0,0,0]
[]
[null,"Register address (HEX): ","register value (hex)",31,30,29,28,27,26,25,24,23,22,21,20,19,18,17,16,15,14,13,12,11,10,9,8,7,6,5,4,3,2,1,0]
[null,"DRAM_SDQS3_P",{"$nulls":17},"PUS",null,"PUE","PKE",null,"ODT",{"$nulls":4},"DSE"]
[]
[null,null,{"$f":"BIN2HEX(D116&E116&F116&G116)&BIN2HEX(H116&I116&J116&K116)&BIN2HEX(L116&M116&N116&O116)&BIN2HEX(P116&Q116&R116&S116)&BIN2HEX(T116&U116&V116&W116)&BIN2HEX(X116&Y116&Z116&AA116)&BIN2HEX(AB116&AC116&AD116&AE116)&BIN2HEX(AF116&AG116&AH116&AI116)","v":"00000028"},0,0,0,0,0,0,0,0,0,0,0,0,0,0,0,0,0,0,0,0,0,0,0,0,0,0,{"$f":"MOD(ROUNDDOWN(ROUNDDOWN(240/C30,0)/4,0),2)","v":1},{"$f":"MOD(ROUNDDOWN(ROUNDDOWN(240/C30,0)/2,0),2)","v":0},{"$f":"MOD(ROUNDDOWN(240/C30,0),2)","v":1},0,0,0]
[]
[null,"Register address (HEX): ","register value (hex)",31,30,29,28,27,26,25,24,23,22,21,20,19,18,17,16,15,14,13,12,11,10,9,8,7,6,5,4,3,2,1,0]
[null,"DRAM_SDQS4_P",{"$nulls":17},"PUS",null,"PUE","PKE",null,"ODT",{"$nulls":4},"DSE"]
[]
[null,null,{"$f":"BIN2HEX(D121&E121&F121&G121)&BIN2HEX(H121&I121&J121&K121)&BIN2HEX(L121&M121&N121&O121)&BIN2HEX(P121&Q121&R121&S121)&BIN2HEX(T121&U121&V121&W121)&BIN2HEX(X121&Y121&Z121&AA121)&BIN2HEX(AB121&AC121&AD121&AE121)&BIN2HEX(AF121&AG121&AH121&AI121)","v":"00000028"},0,0,0,0,0,0,0,0,0,0,0,0,0,0,0,0,0,0,0,0,0,0,0,0,0,0,{"$f":"MOD(ROUNDDOWN(ROUNDDOWN(240/C30,0)/4,0),2)","v":1},{"$f":"MOD(ROUNDDOWN(ROUNDDOWN(240/C30,0)/2,0),2)","v":0},{"$f":"MOD(ROUNDDOWN(240/C30,0),2)","v":1},0,0,0]
[]
[null,"Register address (HEX): ","register value (hex)",31,30,29,28,27,26,25,24,23,22,21,20,19,18,17,16,15,14,13,12,11,10,9,8,7,6,5,4,3,2,1,0]
[null,"DRAM_SDQS5_P",{"$nulls":17},"PUS",null,"PUE","PKE",null,"ODT",{"$nulls":4},"DSE"]
[]
[null,null,{"$f":"BIN2HEX(D126&E126&F126&G126)&BIN2HEX(H126&I126&J126&K126)&BIN2HEX(L126&M126&N126&O126)&BIN2HEX(P126&Q126&R126&S126)&BIN2HEX(T126&U126&V126&W126)&BIN2HEX(X126&Y126&Z126&AA126)&BIN2HEX(AB126&AC126&AD126&AE126)&BIN2HEX(AF126&AG126&AH126&AI126)","v":"00000028"},0,0,0,0,0,0,0,0,0,0,0,0,0,0,0,0,0,0,0,0,0,0,0,0,0,0,{"$f":"MOD(ROUNDDOWN(ROUNDDOWN(240/C30,0)/4,0),2)","v":1},{"$f":"MOD(ROUNDDOWN(ROUNDDOWN(240/C30,0)/2,0),2)","v":0},{"$f":"MOD(ROUNDDOWN(240/C30,0),2)","v":1},0,0,0]
[]
[null,"Register address (HEX): ","register value (hex)",31,30,29,28,27,26,25,24,23,22,21,20,19,18,17,16,15,14,13,12,11,10,9,8,7,6,5,4,3,2,1,0]
[null,"DRAM_SDQS6_P",{"$nulls":17},"PUS",null,"PUE","PKE",null,"ODT",{"$nulls":4},"DSE"]
[]
[null,null,{"$f":"BIN2HEX(D131&E131&F131&G131)&BIN2HEX(H131&I131&J131&K131)&BIN2HEX(L131&M131&N131&O131)&BIN2HEX(P131&Q131&R131&S131)&BIN2HEX(T131&U131&V131&W131)&BIN2HEX(X131&Y131&Z131&AA131)&BIN2HEX(AB131&AC131&AD131&AE131)&BIN2HEX(AF131&AG131&AH131&AI131)","v":"00000028"},0,0,0,0,0,0,0,0,0,0,0,0,0,0,0,0,0,0,0,0,0,0,0,0,0,0,{"$f":"MOD(ROUNDDOWN(ROUNDDOWN(240/C30,0)/4,0),2)","v":1},{"$f":"MOD(ROUNDDOWN(ROUNDDOWN(240/C30,0)/2,0),2)","v":0},{"$f":"MOD(ROUNDDOWN(240/C30,0),2)","v":1},0,0,0]
[]
[null,"Register address (HEX): ","register value (hex)",31,30,29,28,27,26,25,24,23,22,21,20,19,18,17,16,15,14,13,12,11,10,9,8,7,6,5,4,3,2,1,0]
[null,"DRAM_SDQS7_P",{"$nulls":17},"PUS",null,"PUE","PKE",null,"ODT",{"$nulls":4},"DSE"]
[]
[null,null,{"$f":"BIN2HEX(D136&E136&F136&G136)&BIN2HEX(H136&I136&J136&K136)&BIN2HEX(L136&M136&N136&O136)&BIN2HEX(P136&Q136&R136&S136)&BIN2HEX(T136&U136&V136&W136)&BIN2HEX(X136&Y136&Z136&AA136)&BIN2HEX(AB136&AC136&AD136&AE136)&BIN2HEX(AF136&AG136&AH136&AI136)","v":"00000028"},0,0,0,0,0,0,0,0,0,0,0,0,0,0,0,0,0,0,0,0,0,0,0,0,0,0,{"$f":"MOD(ROUNDDOWN(ROUNDDOWN(240/C30,0)/4,0),2)","v":1},{"$f":"MOD(ROUNDDOWN(ROUNDDOWN(240/C30,0)/2,0),2)","v":0},{"$f":"MOD(ROUNDDOWN(240/C30,0),2)","v":1},0,0,0]
[]
[null,"Register address (HEX): ","register value (hex)",31,30,29,28,27,26,25,24,23,22,21,20,19,18,17,16,15,14,13,12,11,10,9,8,7,6,5,4,3,2,1,0]
[null,"GRP_DDRMODE",{"$nulls":15},"DDR_INPUT"]
[]
[null,"0x020e04b0",{"$f":"BIN2HEX(D141&E141&F141&G141)&BIN2HEX(H141&I141&J141&K141)&BIN2HEX(L141&M141&N141&O141)&BIN2HEX(P141&Q141&R141&S141)&BIN2HEX(T141&U141&V141&W141)&BIN2HEX(X141&Y141&Z141&AA141)&BIN2HEX(AB141&AC141&AD141&AE141)&BIN2HEX(AF141&AG141&AH141&AI141)","v":"00020000"},0,0,0,0,0,0,0,0,0,0,0,0,0,0,1,0,0,0,0,0,0,0,0,0,0,0,0,0,0,0,0,0]
[]
[null,"Register address (HEX): ","register value (hex)",31,30,29,28,27,26,25,24,23,22,21,20,19,18,17,16,15,14,13,12,11,10,9,8,7,6,5,4,3,2,1,0]
[null,"GRP_B0DS",{"$nulls":27},"DSE"]
[]
[null,"0x020e0498",{"$f":"BIN2HEX(D146&E146&F146&G146)&BIN2HEX(H146&I146&J146&K146)&BIN2HEX(L146&M146&N146&O146)&BIN2HEX(P146&Q146&R146&S146)&BIN2HEX(T146&U146&V146&W146)&BIN2HEX(X146&Y146&Z146&AA146)&BIN2HEX(AB146&AC146&AD146&AE146)&BIN2HEX(AF146&AG146&AH146&AI146)","v":"00000028"},0,0,0,0,0,0,0,0,0,0,0,0,0,0,0,0,0,0,0,0,0,0,0,0,0,0,{"$f":"MOD(ROUNDDOWN(ROUNDDOWN(240/C27,0)/4,0),2)","v":1},{"$f":"MOD(ROUNDDOWN(ROUNDDOWN(240/C27,0)/2,0),2)","v":0},{"$f":"MOD(ROUNDDOWN(240/C27,0),2)","v":1},0,0,0]
[]
[null,"Register address (HEX): ","register value (hex)",31,30,29,28,27,26,25,24,23,22,21,20,19,18,17,16,15,14,13,12,11,10,9,8,7,6,5,4,3,2,1,0]
[null,"GRP_B1DS",{"$nulls":27},"DSE"]
[]
[null,"0x020e04a4",{"$f":"BIN2HEX(D151&E151&F151&G151)&BIN2HEX(H151&I151&J151&K151)&BIN2HEX(L151&M151&N151&O151)&BIN2HEX(P151&Q151&R151&S151)&BIN2HEX(T151&U151&V151&W151)&BIN2HEX(X151&Y151&Z151&AA151)&BIN2HEX(AB151&AC151&AD151&AE151)&BIN2HEX(AF151&AG151&AH151&AI151)","v":"00000028"},0,0,0,0,0,0,0,0,0,0,0,0,0,0,0,0,0,0,0,0,0,0,0,0,0,0,{"$f":"MOD(ROUNDDOWN(ROUNDDOWN(240/C27,0)/4,0),2)","v":1},{"$f":"MOD(ROUNDDOWN(ROUNDDOWN(240/C27,0)/2,0),2)","v":0},{"$f":"MOD(ROUNDDOWN(240/C27,0),2)","v":1},0,0,0]
[]
[null,"Register address (HEX): ","register value (hex)",31,30,29,28,27,26,25,24,23,22,21,20,19,18,17,16,15,14,13,12,11,10,9,8,7,6,5,4,3,2,1,0]
[null,"GRP_B2DS",{"$nulls":27},"DSE"]
[]
[null,null,{"$f":"BIN2HEX(D156&E156&F156&G156)&BIN2HEX(H156&I156&J156&K156)&BIN2HEX(L156&M156&N156&O156)&BIN2HEX(P156&Q156&R156&S156)&BIN2HEX(T156&U156&V156&W156)&BIN2HEX(X156&Y156&Z156&AA156)&BIN2HEX(AB156&AC156&AD156&AE156)&BIN2HEX(AF156&AG156&AH156&AI156)","v":"00000028"},0,0,0,0,0,0,0,0,0,0,0,0,0,0,0,0,0,0,0,0,0,0,0,0,0,0,{"$f":"MOD(ROUNDDOWN(ROUNDDOWN(240/C27,0)/4,0),2)","v":1},{"$f":"MOD(ROUNDDOWN(ROUNDDOWN(240/C27,0)/2,0),2)","v":0},{"$f":"MOD(ROUNDDOWN(240/C27,0),2)","v":1},0,0,0]
[]
[null,"Register address (HEX): ","register value (hex)",31,30,29,28,27,26,25,24,23,22,21,20,19,18,17,16,15,14,13,12,11,10,9,8,7,6,5,4,3,2,1,0]
[null,"GRP_B3DS",{"$nulls":27},"DSE"]
[]
[null,null,{"$f":"BIN2HEX(D161&E161&F161&G161)&BIN2HEX(H161&I161&J161&K161)&BIN2HEX(L161&M161&N161&O161)&BIN2HEX(P161&Q161&R161&S161)&BIN2HEX(T161&U161&V161&W161)&BIN2HEX(X161&Y161&Z161&AA161)&BIN2HEX(AB161&AC161&AD161&AE161)&BIN2HEX(AF161&AG161&AH161&AI161)","v":"00000028"},0,0,0,0,0,0,0,0,0,0,0,0,0,0,0,0,0,0,0,0,0,0,0,0,0,0,{"$f":"MOD(ROUNDDOWN(ROUNDDOWN(240/C27,0)/4,0),2)","v":1},{"$f":"MOD(ROUNDDOWN(ROUNDDOWN(240/C27,0)/2,0),2)","v":0},{"$f":"MOD(ROUNDDOWN(240/C27,0),2)","v":1},0,0,0]
[]
[null,"Register address (HEX): ","register value (hex)",31,30,29,28,27,26,25,24,23,22,21,20,19,18,17,16,15,14,13,12,11,10,9,8,7,6,5,4,3,2,1,0]
[null,"GRP_B4DS",{"$nulls":27},"DSE"]
[]
[null,null,{"$f":"BIN2HEX(D166&E166&F166&G166)&BIN2HEX(H166&I166&J166&K166)&BIN2HEX(L166&M166&N166&O166)&BIN2HEX(P166&Q166&R166&S166)&BIN2HEX(T166&U166&V166&W166)&BIN2HEX(X166&Y166&Z166&AA166)&BIN2HEX(AB166&AC166&AD166&AE166)&BIN2HEX(AF166&AG166&AH166&AI166)","v":"00000028"},0,0,0,0,0,0,0,0,0,0,0,0,0,0,0,0,0,0,0,0,0,0,0,0,0,0,{"$f":"MOD(ROUNDDOWN(ROUNDDOWN(240/C27,0)/4,0),2)","v":1},{"$f":"MOD(ROUNDDOWN(ROUNDDOWN(240/C27,0)/2,0),2)","v":0},{"$f":"MOD(ROUNDDOWN(240/C27,0),2)","v":1},0,0,0]
[]
[null,"Register address (HEX): ","register value (hex)",31,30,29,28,27,26,25,24,23,22,21,20,19,18,17,16,15,14,13,12,11,10,9,8,7,6,5,4,3,2,1,0]
[null,"GRP_B5DS",{"$nulls":27},"DSE"]
[]
[null,null,{"$f":"BIN2HEX(D171&E171&F171&G171)&BIN2HEX(H171&I171&J171&K171)&BIN2HEX(L171&M171&N171&O171)&BIN2HEX(P171&Q171&R171&S171)&BIN2HEX(T171&U171&V171&W171)&BIN2HEX(X171&Y171&Z171&AA171)&BIN2HEX(AB171&AC171&AD171&AE171)&BIN2HEX(AF171&AG171&AH171&AI171)","v":"00000028"},0,0,0,0,0,0,0,0,0,0,0,0,0,0,0,0,0,0,0,0,0,0,0,0,0,0,{"$f":"MOD(ROUNDDOWN(ROUNDDOWN(240/C27,0)/4,0),2)","v":1},{"$f":"MOD(ROUNDDOWN(ROUNDDOWN(240/C27,0)/2,0),2)","v":0},{"$f":"MOD(ROUNDDOWN(240/C27,0),2)","v":1},0,0,0]
[]
[null,"Register address (HEX): ","register value (hex)",31,30,29,28,27,26,25,24,23,22,21,20,19,18,17,16,15,14,13,12,11,10,9,8,7,6,5,4,3,2,1,0]
[null,"GRP_B6DS",{"$nulls":27},"DSE"]
[]
[null,null,{"$f":"BIN2HEX(D176&E176&F176&G176)&BIN2HEX(H176&I176&J176&K176)&BIN2HEX(L176&M176&N176&O176)&BIN2HEX(P176&Q176&R176&S176)&BIN2HEX(T176&U176&V176&W176)&BIN2HEX(X176&Y176&Z176&AA176)&BIN2HEX(AB176&AC176&AD176&AE176)&BIN2HEX(AF176&AG176&AH176&AI176)","v":"00000028"},0,0,0,0,0,0,0,0,0,0,0,0,0,0,0,0,0,0,0,0,0,0,0,0,0,0,{"$f":"MOD(ROUNDDOWN(ROUNDDOWN(240/C27,0)/4,0),2)","v":1},{"$f":"MOD(ROUNDDOWN(ROUNDDOWN(240/C27,0)/2,0),2)","v":0},{"$f":"MOD(ROUNDDOWN(240/C27,0),2)","v":1},0,0,0]
[]
[null,"Register address (HEX): ","register value (hex)",31,30,29,28,27,26,25,24,23,22,21,20,19,18,17,16,15,14,13,12,11,10,9,8,7,6,5,4,3,2,1,0]
[null,"GRP_B7DS",{"$nulls":27},"DSE"]
[]
[null,null,{"$f":"BIN2HEX(D181&E181&F181&G181)&BIN2HEX(H181&I181&J181&K181)&BIN2HEX(L181&M181&N181&O181)&BIN2HEX(P181&Q181&R181&S181)&BIN2HEX(T181&U181&V181&W181)&BIN2HEX(X181&Y181&Z181&AA181)&BIN2HEX(AB181&AC181&AD181&AE181)&BIN2HEX(AF181&AG181&AH181&AI181)","v":"00000028"},0,0,0,0,0,0,0,0,0,0,0,0,0,0,0,0,0,0,0,0,0,0,0,0,0,0,{"$f":"MOD(ROUNDDOWN(ROUNDDOWN(240/C27,0)/4,0),2)","v":1},{"$f":"MOD(ROUNDDOWN(ROUNDDOWN(240/C27,0)/2,0),2)","v":0},{"$f":"MOD(ROUNDDOWN(240/C27,0),2)","v":1},0,0,0]
[]
[null,"Register address (HEX): ","register value (hex)",31,30,29,28,27,26,25,24,23,22,21,20,19,18,17,16,15,14,13,12,11,10,9,8,7,6,5,4,3,2,1,0]
[null,"DRAM_DQM0",{"$nulls":15},"DDR_INPUT","HYS",{"$nulls":5},"ODT",{"$nulls":4},"DSE"]
[]
[null,"0x020e0244",{"$f":"BIN2HEX(D186&E186&F186&G186)&BIN2HEX(H186&I186&J186&K186)&BIN2HEX(L186&M186&N186&O186)&BIN2HEX(P186&Q186&R186&S186)&BIN2HEX(T186&U186&V186&W186)&BIN2HEX(X186&Y186&Z186&AA186)&BIN2HEX(AB186&AC186&AD186&AE186)&BIN2HEX(AF186&AG186&AH186&AI186)","v":"00000028"},0,0,0,0,0,0,0,0,0,0,0,0,0,0,0,0,0,0,0,0,0,0,0,0,0,0,{"$f":"MOD(ROUNDDOWN(ROUNDDOWN(240/C27,0)/4,0),2)","v":1},{"$f":"MOD(ROUNDDOWN(ROUNDDOWN(240/C27,0)/2,0),2)","v":0},{"$f":"MOD(ROUNDDOWN(240/C27,0),2)","v":1},0,0,0]
[]
[null,"Register address (HEX): ","register value (hex)",31,30,29,28,27,26,25,24,23,22,21,20,19,18,17,16,15,14,13,12,11,10,9,8,7,6,5,4,3,2,1,0]
[null,"DRAM_DQM1",{"$nulls":15},"DDR_INPUT","HYS",{"$nulls":5},"ODT",{"$nulls":4},"DSE"]
[]
[null,"0x020e0248",{"$f":"BIN2HEX(D191&E191&F191&G191)&BIN2HEX(H191&I191&J191&K191)&BIN2HEX(L191&M191&N191&O191)&BIN2HEX(P191&Q191&R191&S191)&BIN2HEX(T191&U191&V191&W191)&BIN2HEX(X191&Y191&Z191&AA191)&BIN2HEX(AB191&AC191&AD191&AE191)&BIN2HEX(AF191&AG191&AH191&AI191)","v":"00000028"},0,0,0,0,0,0,0,0,0,0,0,0,0,0,0,0,0,0,0,0,0,0,0,0,0,0,{"$f":"MOD(ROUNDDOWN(ROUNDDOWN(240/C27,0)/4,0),2)","v":1},{"$f":"MOD(ROUNDDOWN(ROUNDDOWN(240/C27,0)/2,0),2)","v":0},{"$f":"MOD(ROUNDDOWN(240/C27,0),2)","v":1},0,0,0]
[]
[null,"Register address (HEX): ","register value (hex)",31,30,29,28,27,26,25,24,23,22,21,20,19,18,17,16,15,14,13,12,11,10,9,8,7,6,5,4,3,2,1,0]
[null,"DRAM_DQM2",{"$nulls":15},"DDR_INPUT","HYS",{"$nulls":5},"ODT",{"$nulls":4},"DSE"]
[]
[null,null,{"$f":"BIN2HEX(D196&E196&F196&G196)&BIN2HEX(H196&I196&J196&K196)&BIN2HEX(L196&M196&N196&O196)&BIN2HEX(P196&Q196&R196&S196)&BIN2HEX(T196&U196&V196&W196)&BIN2HEX(X196&Y196&Z196&AA196)&BIN2HEX(AB196&AC196&AD196&AE196)&BIN2HEX(AF196&AG196&AH196&AI196)","v":"00000028"},0,0,0,0,0,0,0,0,0,0,0,0,0,0,0,0,0,0,0,0,0,0,0,0,0,0,{"$f":"MOD(ROUNDDOWN(ROUNDDOWN(240/C27,0)/4,0),2)","v":1},{"$f":"MOD(ROUNDDOWN(ROUNDDOWN(240/C27,0)/2,0),2)","v":0},{"$f":"MOD(ROUNDDOWN(240/C27,0),2)","v":1},0,0,0]
[]
[null,"Register address (HEX): ","register value (hex)",31,30,29,28,27,26,25,24,23,22,21,20,19,18,17,16,15,14,13,12,11,10,9,8,7,6,5,4,3,2,1,0]
[null,"DRAM_DQM3",{"$nulls":15},"DDR_INPUT","HYS",{"$nulls":5},"ODT",{"$nulls":4},"DSE"]
[]
[null,null,{"$f":"BIN2HEX(D201&E201&F201&G201)&BIN2HEX(H201&I201&J201&K201)&BIN2HEX(L201&M201&N201&O201)&BIN2HEX(P201&Q201&R201&S201)&BIN2HEX(T201&U201&V201&W201)&BIN2HEX(X201&Y201&Z201&AA201)&BIN2HEX(AB201&AC201&AD201&AE201)&BIN2HEX(AF201&AG201&AH201&AI201)","v":"00000028"},0,0,0,0,0,0,0,0,0,0,0,0,0,0,0,0,0,0,0,0,0,0,0,0,0,0,{"$f":"MOD(ROUNDDOWN(ROUNDDOWN(240/C27,0)/4,0),2)","v":1},{"$f":"MOD(ROUNDDOWN(ROUNDDOWN(240/C27,0)/2,0),2)","v":0},{"$f":"MOD(ROUNDDOWN(240/C27,0),2)","v":1},0,0,0]
[]
[null,"Register address (HEX): ","register value (hex)",31,30,29,28,27,26,25,24,23,22,21,20,19,18,17,16,15,14,13,12,11,10,9,8,7,6,5,4,3,2,1,0]
[null,"DRAM_DQM4",{"$nulls":15},"DDR_INPUT","HYS",{"$nulls":5},"ODT",{"$nulls":4},"DSE"]
[]
[null,null,{"$f":"BIN2HEX(D206&E206&F206&G206)&BIN2HEX(H206&I206&J206&K206)&BIN2HEX(L206&M206&N206&O206)&BIN2HEX(P206&Q206&R206&S206)&BIN2HEX(T206&U206&V206&W206)&BIN2HEX(X206&Y206&Z206&AA206)&BIN2HEX(AB206&AC206&AD206&AE206)&BIN2HEX(AF206&AG206&AH206&AI206)","v":"00000028"},0,0,0,0,0,0,0,0,0,0,0,0,0,0,0,0,0,0,0,0,0,0,0,0,0,0,{"$f":"MOD(ROUNDDOWN(ROUNDDOWN(240/C27,0)/4,0),2)","v":1},{"$f":"MOD(ROUNDDOWN(ROUNDDOWN(240/C27,0)/2,0),2)","v":0},{"$f":"MOD(ROUNDDOWN(240/C27,0),2)","v":1},0,0,0]
[]
[null,"Register address (HEX): ","register value (hex)",31,30,29,28,27,26,25,24,23,22,21,20,19,18,17,16,15,14,13,12,11,10,9,8,7,6,5,4,3,2,1,0]
[null,"DRAM_DQM5",{"$nulls":15},"DDR_INPUT","HYS",{"$nulls":5},"ODT",{"$nulls":4},"DSE"]
[]
[null,null,{"$f":"BIN2HEX(D211&E211&F211&G211)&BIN2HEX(H211&I211&J211&K211)&BIN2HEX(L211&M211&N211&O211)&BIN2HEX(P211&Q211&R211&S211)&BIN2HEX(T211&U211&V211&W211)&BIN2HEX(X211&Y211&Z211&AA211)&BIN2HEX(AB211&AC211&AD211&AE211)&BIN2HEX(AF211&AG211&AH211&AI211)","v":"00000028"},0,0,0,0,0,0,0,0,0,0,0,0,0,0,0,0,0,0,0,0,0,0,0,0,0,0,{"$f":"MOD(ROUNDDOWN(ROUNDDOWN(240/C27,0)/4,0),2)","v":1},{"$f":"MOD(ROUNDDOWN(ROUNDDOWN(240/C27,0)/2,0),2)","v":0},{"$f":"MOD(ROUNDDOWN(240/C27,0),2)","v":1},0,0,0]
[]
[null,"Register address (HEX): ","register value (hex)",31,30,29,28,27,26,25,24,23,22,21,20,19,18,17,16,15,14,13,12,11,10,9,8,7,6,5,4,3,2,1,0]
[null,"DRAM_DQM6",{"$nulls":15},"DDR_INPUT","HYS",{"$nulls":5},"ODT",{"$nulls":4},"DSE"]
[]
[null,null,{"$f":"BIN2HEX(D216&E216&F216&G216)&BIN2HEX(H216&I216&J216&K216)&BIN2HEX(L216&M216&N216&O216)&BIN2HEX(P216&Q216&R216&S216)&BIN2HEX(T216&U216&V216&W216)&BIN2HEX(X216&Y216&Z216&AA216)&BIN2HEX(AB216&AC216&AD216&AE216)&BIN2HEX(AF216&AG216&AH216&AI216)","v":"00000028"},0,0,0,0,0,0,0,0,0,0,0,0,0,0,0,0,0,0,0,0,0,0,0,0,0,0,{"$f":"MOD(ROUNDDOWN(ROUNDDOWN(240/C27,0)/4,0),2)","v":1},{"$f":"MOD(ROUNDDOWN(ROUNDDOWN(240/C27,0)/2,0),2)","v":0},{"$f":"MOD(ROUNDDOWN(240/C27,0),2)","v":1},0,0,0]
[]
[null,"Register address (HEX): ","register value (hex)",31,30,29,28,27,26,25,24,23,22,21,20,19,18,17,16,15,14,13,12,11,10,9,8,7,6,5,4,3,2,1,0]
[null,"DRAM_DQM7",{"$nulls":15},"DDR_INPUT","HYS",{"$nulls":5},"ODT",{"$nulls":4},"DSE"]
[]
[null,null,{"$f":"BIN2HEX(D221&E221&F221&G221)&BIN2HEX(H221&I221&J221&K221)&BIN2HEX(L221&M221&N221&O221)&BIN2HEX(P221&Q221&R221&S221)&BIN2HEX(T221&U221&V221&W221)&BIN2HEX(X221&Y221&Z221&AA221)&BIN2HEX(AB221&AC221&AD221&AE221)&BIN2HEX(AF221&AG221&AH221&AI221)","v":"00000028"},0,0,0,0,0,0,0,0,0,0,0,0,0,0,0,0,0,0,0,0,0,0,0,0,0,0,{"$f":"MOD(ROUNDDOWN(ROUNDDOWN(240/C27,0)/4,0),2)","v":1},{"$f":"MOD(ROUNDDOWN(ROUNDDOWN(240/C27,0)/2,0),2)","v":0},{"$f":"MOD(ROUNDDOWN(240/C27,0),2)","v":1},0,0,0]
[]
[null,"Register address (HEX): ","register value (hex)",31,30,29,28,27,26,25,24,23,22,21,20,19,18,17,16,15,14,13,12,11,10,9,8,7,6,5,4,3,2,1,0]
[null,"MPZQHWCTRL",null,"ZQ_EARLY_COMPARATOR_EN_TIMER",{"$nulls":5},"TZQ_CS",null,null,"TZQ_OPER",null,null,"TZQ_INIT",null,null,"ZQ_HW_FOR",{"$nulls":10},"ZQ_HW_PER",{"$nulls":3},"ZQ_MODE"]
[]
[null,"0x021b0800",{"$f":"BIN2HEX(D226&E226&F226&G226)&BIN2HEX(H226&I226&J226&K226)&BIN2HEX(L226&M226&N226&O226)&BIN2HEX(P226&Q226&R226&S226)&BIN2HEX(T226&U226&V226&W226)&BIN2HEX(X226&Y226&Z226&AA226)&BIN2HEX(AB226&AC226&AD226&AE226)&BIN2HEX(AF226&AG226&AH226&AI226)","v":"A1390003"},1,0,1,0,0,0,0,1,0,0,1,1,1,0,0,1,0,0,0,0,0,0,0,0,0,0,0,0,0,0,1,1]
[]
[null,"Register address (HEX): ","register value (hex)",31,30,29,28,27,26,25,24,23,22,21,20,19,18,17,16,15,14,13,12,11,10,9,8,7,6,5,4,3,2,1,0]
[null,"MPWLDECTRL0",{"$nulls":6},"WL_CYC_DEL1",null,"WL_HC_DEL1",null,"WL_DL_ABS_OFFSET1",{"$nulls":11},"WL_CYC_DEL0",null,"WL_HC_DEL0",null,"WL_DL_ABS_OFFSET0"]
[]
[null,"0x021b080c",{"$f":"BIN2HEX(D231&E231&F231&G231)&BIN2HEX(H231&I231&J231&K231)&BIN2HEX(L231&M231&N231&O231)&BIN2HEX(P231&Q231&R231&S231)&BIN2HEX(T231&U231&V231&W231)&BIN2HEX(X231&Y231&Z231&AA231)&BIN2HEX(AB231&AC231&AD231&AE231)&BIN2HEX(AF231&AG231&AH231&AI231)","v":"00000000"},0,0,0,0,0,0,0,0,0,0,0,0,0,0,0,0,0,0,0,0,0,0,0,0,0,0,0,0,0,0,0,0]
[null,"0x021b480c",{"$f":"BIN2HEX(D232&E232&F232&G232)&BIN2HEX(H232&I232&J232&K232)&BIN2HEX(L232&M232&N232&O232)&BIN2HEX(P232&Q232&R232&S232)&BIN2HEX(T232&U232&V232&W232)&BIN2HEX(X232&Y232&Z232&AA232)&BIN2HEX(AB232&AC232&AD232&AE232)&BIN2HEX(AF232&AG232&AH232&AI232)","v":"00000000"},0,0,0,0,0,0,0,0,0,0,0,0,0,0,0,0,0,0,0,0,0,0,0,0,0,0,0,0,0,0,0,0]
[]
[null,"Register address (HEX): ","register value (hex)",31,30,29,28,27,26,25,24,23,22,21,20,19,18,17,16,15,14,13,12,11,10,9,8,7,6,5,4,3,2,1,0]
[null,"MPWLDECTRL1",{"$nulls":6},"WL_CYC_DEL3",null,"WL_HC_DEL3",null,"WL_DL_ABS_OFFSET3",{"$nulls":11},"WL_CYC_DEL2",null,"WL_HC_DEL2",null,"WL_DL_ABS_OFFSET2"]
[]
[null,"0x021b0810",{"$f":"BIN2HEX(D237&E237&F237&G237)&BIN2HEX(H237&I237&J237&K237)&BIN2HEX(L237&M237&N237&O237)&BIN2HEX(P237&Q237&R237&S237)&BIN2HEX(T237&U237&V237&W237)&BIN2HEX(X237&Y237&Z237&AA237)&BIN2HEX(AB237&AC237&AD237&AE237)&BIN2HEX(AF237&AG237&AH237&AI237)","v":"00000000"},0,0,0,0,0,0,0,0,0,0,0,0,0,0,0,0,0,0,0,0,0,0,0,0,0,0,0,0,0,0,0,0]
[null,"0x021b4810",{"$f":"BIN2HEX(D238&E238&F238&G238)&BIN2HEX(H238&I238&J238&K238)&BIN2HEX(L238&M238&N238&O238)&BIN2HEX(P238&Q238&R238&S238)&BIN2HEX(T238&U238&V238&W238)&BIN2HEX(X238&Y238&Z238&AA238)&BIN2HEX(AB238&AC238&AD238&AE238)&BIN2HEX(AF238&AG238&AH238&AI238)","v":"00000000"},0,0,0,0,0,0,0,0,0,0,0,0,0,0,0,0,0,0,0,0,0,0,0,0,0,0,0,0,0,0,0,0]
[]
[null,"Register address (HEX): ","register value (hex)",31,30,29,28,27,26,25,24,23,22,21,20,19,18,17,16,15,14,13,12,11,10,9,8,7,6,5,4,3,2,1,0]
[null,"MPDGCTRL0",null,"RST_RD_FIFO","DG_CMP_CYC","DG_DIS","HW_DG_EN","DG_HC_DEL1",{"$nulls":3},"DG_EXT_UP","DG_DL_ABS_OFFSET1",{"$nulls":10},"DG_HC_DEL0",{"$nulls":4},"DG_DL_ABS_OFFSET0"]
[]
[null,"0x021b083c",{"$f":"BIN2HEX(D243&E243&F243&G243)&BIN2HEX(H243&I243&J243&K243)&BIN2HEX(L243&M243&N243&O243)&BIN2HEX(P243&Q243&R243&S243)&BIN2HEX(T243&U243&V243&W243)&BIN2HEX(X243&Y243&Z243&AA243)&BIN2HEX(AB243&AC243&AD243&AE243)&BIN2HEX(AF243&AG243&AH243&AI243)","v":"00000000"},0,0,0,0,0,0,0,0,0,0,0,0,0,0,0,0,0,0,0,0,0,0,0,0,0,0,0,0,0,0,0,0]
[null,"0x021b483c",{"$f":"BIN2HEX(D244&E244&F244&G244)&BIN2HEX(H244&I244&J244&K244)&BIN2HEX(L244&M244&N244&O244)&BIN2HEX(P244&Q244&R244&S244)&BIN2HEX(T244&U244&V244&W244)&BIN2HEX(X244&Y244&Z244&AA244)&BIN2HEX(AB244&AC244&AD244&AE244)&BIN2HEX(AF244&AG244&AH244&AI244)","v":"00000000"},0,0,0,0,0,0,0,0,0,0,0,0,0,0,0,0,0,0,0,0,0,0,0,0,0,0,0,0,0,0,0,0]
[]
[null,"Register address (HEX): ","register value (hex)",31,30,29,28,27,26,25,24,23,22,21,20,19,18,17,16,15,14,13,12,11,10,9,8,7,6,5,4,3,2,1,0]
[null,"MPDGCTRL1",{"$nulls":5},"DG_HC_DEL3",{"$nulls":4},"DG_DL_ABS_OFFSET3",{"$nulls":10},"DG_HC_DEL2",{"$nulls":4},"DG_DL_ABS_OFFSET2"]
[]
[null,"0x021b0840",{"$f":"BIN2HEX(D249&E249&F249&G249)&BIN2HEX(H249&I249&J249&K249)&BIN2HEX(L249&M249&N249&O249)&BIN2HEX(P249&Q249&R249&S249)&BIN2HEX(T249&U249&V249&W249)&BIN2HEX(X249&Y249&Z249&AA249)&BIN2HEX(AB249&AC249&AD249&AE249)&BIN2HEX(AF249&AG249&AH249&AI249)","v":"00000000"},0,0,0,0,0,0,0,0,0,0,0,0,0,0,0,0,0,0,0,0,0,0,0,0,0,0,0,0,0,0,0,0]
[null,"0x021b4840",{"$f":"BIN2HEX(D250&E250&F250&G250)&BIN2HEX(H250&I250&J250&K250)&BIN2HEX(L250&M250&N250&O250)&BIN2HEX(P250&Q250&R250&S250)&BIN2HEX(T250&U250&V250&W250)&BIN2HEX(X250&Y250&Z250&AA250)&BIN2HEX(AB250&AC250&AD250&AE250)&BIN2HEX(AF250&AG250&AH250&AI250)","v":"00000000"},0,0,0,0,0,0,0,0,0,0,0,0,0,0,0,0,0,0,0,0,0,0,0,0,0,0,0,0,0,0,0,0]
[]
[null,"Register address (HEX): ","register value (hex)",31,30,29,28,27,26,25,24,23,22,21,20,19,18,17,16,15,14,13,12,11,10,9,8,7,6,5,4,3,2,1,0]
[null,"MPRDDLCTL",null,null,"RD_DL_ABS_OFFSET3",{"$nulls":7},"RD_DL_ABS_OFFSET2",{"$nulls":7},"RD_DL_ABS_OFFSET1",{"$nulls":7},"RD_DL_ABS_OFFSET0"]
[]
[null,"0x021b0848",{"$f":"BIN2HEX(D255&E255&F255&G255)&BIN2HEX(H255&I255&J255&K255)&BIN2HEX(L255&M255&N255&O255)&BIN2HEX(P255&Q255&R255&S255)&BIN2HEX(T255&U255&V255&W255)&BIN2HEX(X255&Y255&Z255&AA255)&BIN2HEX(AB255&AC255&AD255&AE255)&BIN2HEX(AF255&AG255&AH255&AI255)","v":"40404040"},0,1,0,0,0,0,0,0,0,1,0,0,0,0,0,0,0,1,0,0,0,0,0,0,0,1,0,0,0,0,0,0]
[null,"0x021b4848",{"$f":"BIN2HEX(D256&E256&F256&G256)&BIN2HEX(H256&I256&J256&K256)&BIN2HEX(L256&M256&N256&O256)&BIN2HEX(P256&Q256&R256&S256)&BIN2HEX(T256&U256&V256&W256)&BIN2HEX(X256&Y256&Z256&AA256)&BIN2HEX(AB256&AC256&AD256&AE256)&BIN2HEX(AF256&AG256&AH256&AI256)","v":"40404040"},0,1,0,0,0,0,0,0,0,1,0,0,0,0,0,0,0,1,0,0,0,0,0,0,0,1,0,0,0,0,0,0]
[]
[null,"Register address (HEX): ","register value (hex)",31,30,29,28,27,26,25,24,23,22,21,20,19,18,17,16,15,14,13,12,11,10,9,8,7,6,5,4,3,2,1,0]
[null,"MPWRDLCTL",null,null,"WR_DL_ABS_OFFSET3",{"$nulls":7},"WR_DL_ABS_OFFSET2",{"$nulls":7},"WR_DL_ABS_OFFSET1",{"$nulls":7},"WR_DL_ABS_OFFSET0"]
[]
[null,"0x021b0850",{"$f":"BIN2HEX(D261&E261&F261&G261)&BIN2HEX(H261&I261&J261&K261)&BIN2HEX(L261&M261&N261&O261)&BIN2HEX(P261&Q261&R261&S261)&BIN2HEX(T261&U261&V261&W261)&BIN2HEX(X261&Y261&Z261&AA261)&BIN2HEX(AB261&AC261&AD261&AE261)&BIN2HEX(AF261&AG261&AH261&AI261)","v":"40404040"},0,1,0,0,0,0,0,0,0,1,0,0,0,0,0,0,0,1,0,0,0,0,0,0,0,1,0,0,0,0,0,0]
[null,"0x021b4850",{"$f":"BIN2HEX(D262&E262&F262&G262)&BIN2HEX(H262&I262&J262&K262)&BIN2HEX(L262&M262&N262&O262)&BIN2HEX(P262&Q262&R262&S262)&BIN2HEX(T262&U262&V262&W262)&BIN2HEX(X262&Y262&Z262&AA262)&BIN2HEX(AB262&AC262&AD262&AE262)&BIN2HEX(AF262&AG262&AH262&AI262)","v":"40404040"},0,1,0,0,0,0,0,0,0,1,0,0,0,0,0,0,0,1,0,0,0,0,0,0,0,1,0,0,0,0,0,0]
[]
[null,"Register address (HEX): ","register value (hex)",31,30,29,28,27,26,25,24,23,22,21,20,19,18,17,16,15,14,13,12,11,10,9,8,7,6,5,4,3,2,1,0]
[null,"MPRDDQBY0DL",null,null,"rd_dq7_del",{"$nulls":3},"rd_dq6_del",{"$nulls":3},"rd_dq5_del",{"$nulls":3},"rd_dq4_del",{"$nulls":3},"rd_dq3_del",{"$nulls":3},"rd_dq2_del",{"$nulls":3},"rd_dq1_del",{"$nulls":3},"rd_dq0_del"]
[]
[null,"0x021b081c",{"$f":"BIN2HEX(D267&E267&F267&G267)&BIN2HEX(H267&I267&J267&K267)&BIN2HEX(L267&M267&N267&O267)&BIN2HEX(P267&Q267&R267&S267)&BIN2HEX(T267&U267&V267&W267)&BIN2HEX(X267&Y267&Z267&AA267)&BIN2HEX(AB267&AC267&AD267&AE267)&BIN2HEX(AF267&AG267&AH267&AI267)","v":"33333333"},0,0,1,1,0,0,1,1,0,0,1,1,0,0,1,1,0,0,1,1,0,0,1,1,0,0,1,1,0,0,1,1]
[null,"0x021b481c",{"$f":"BIN2HEX(D268&E268&F268&G268)&BIN2HEX(H268&I268&J268&K268)&BIN2HEX(L268&M268&N268&O268)&BIN2HEX(P268&Q268&R268&S268)&BIN2HEX(T268&U268&V268&W268)&BIN2HEX(X268&Y268&Z268&AA268)&BIN2HEX(AB268&AC268&AD268&AE268)&BIN2HEX(AF268&AG268&AH268&AI268)","v":"33333333"},0,0,1,1,0,0,1,1,0,0,1,1,0,0,1,1,0,0,1,1,0,0,1,1,0,0,1,1,0,0,1,1]
[]
[null,"Register address (HEX): ","register value (hex)",31,30,29,28,27,26,25,24,23,22,21,20,19,18,17,16,15,14,13,12,11,10,9,8,7,6,5,4,3,2,1,0]
[null,"MPRDDQBY1DL",null,null,"rd_dq15_del",{"$nulls":3},"rd_dq14_del",{"$nulls":3},"rd_dq13_del",{"$nulls":3},"rd_dq12_del",{"$nulls":3},"rd_dq11_del",{"$nulls":3},"rd_dq10_del",{"$nulls":3},"rd_dq9_del",{"$nulls":3},"rd_dq8_del"]
[]
[null,"0x021b0820",{"$f":"BIN2HEX(D273&E273&F273&G273)&BIN2HEX(H273&I273&J273&K273)&BIN2HEX(L273&M273&N273&O273)&BIN2HEX(P273&Q273&R273&S273)&BIN2HEX(T273&U273&V273&W273)&BIN2HEX(X273&Y273&Z273&AA273)&BIN2HEX(AB273&AC273&AD273&AE273)&BIN2HEX(AF273&AG273&AH273&AI273)","v":"33333333"},0,0,1,1,0,0,1,1,0,0,1,1,0,0,1,1,0,0,1,1,0,0,1,1,0,0,1,1,0,0,1,1]
[null,"0x021b4820",{"$f":"BIN2HEX(D274&E274&F274&G274)&BIN2HEX(H274&I274&J274&K274)&BIN2HEX(L274&M274&N274&O274)&BIN2HEX(P274&Q274&R274&S274)&BIN2HEX(T274&U274&V274&W274)&BIN2HEX(X274&Y274&Z274&AA274)&BIN2HEX(AB274&AC274&AD274&AE274)&BIN2HEX(AF274&AG274&AH274&AI274)","v":"33333333"},0,0,1,1,0,0,1,1,0,0,1,1,0,0,1,1,0,0,1,1,0,0,1,1,0,0,1,1,0,0,1,1]
[]
[null,"Register address (HEX): ","register value (hex)",31,30,29,28,27,26,25,24,23,22,21,20,19,18,17,16,15,14,13,12,11,10,9,8,7,6,5,4,3,2,1,0]
[null,"MPRDDQBY2DL",null,null,"rd_dq23_del",{"$nulls":3},"rd_dq22_del",{"$nulls":3},"rd_dq21_del",{"$nulls":3},"rd_dq20_del",{"$nulls":3},"rd_dq19_del",{"$nulls":3},"rd_dq18_del",{"$nulls":3},"rd_dq17_del",{"$nulls":3},"rd_dq16_del"]
[]
[null,"0x021b0824",{"$f":"BIN2HEX(D279&E279&F279&G279)&BIN2HEX(H279&I279&J279&K279)&BIN2HEX(L279&M279&N279&O279)&BIN2HEX(P279&Q279&R279&S279)&BIN2HEX(T279&U279&V279&W279)&BIN2HEX(X279&Y279&Z279&AA279)&BIN2HEX(AB279&AC279&AD279&AE279)&BIN2HEX(AF279&AG279&AH279&AI279)","v":"33333333"},0,0,1,1,0,0,1,1,0,0,1,1,0,0,1,1,0,0,1,1,0,0,1,1,0,0,1,1,0,0,1,1]
[null,"0x021b4824",{"$f":"BIN2HEX(D280&E280&F280&G280)&BIN2HEX(H280&I280&J280&K280)&BIN2HEX(L280&M280&N280&O280)&BIN2HEX(P280&Q280&R280&S280)&BIN2HEX(T280&U280&V280&W280)&BIN2HEX(X280&Y280&Z280&AA280)&BIN2HEX(AB280&AC280&AD280&AE280)&BIN2HEX(AF280&AG280&AH280&AI280)","v":"33333333"},0,0,1,1,0,0,1,1,0,0,1,1,0,0,1,1,0,0,1,1,0,0,1,1,0,0,1,1,0,0,1,1]
[]
[null,"Register address (HEX): ","register value (hex)",31,30,29,28,27,26,25,24,23,22,21,20,19,18,17,16,15,14,13,12,11,10,9,8,7,6,5,4,3,2,1,0]
[null,"MPRDDQBY3DL",null,null,"rd_dq31_del",{"$nulls":3},"rd_dq30_del",{"$nulls":3},"rd_dq29_del",{"$nulls":3},"rd_dq28_del",{"$nulls":3},"rd_dq27_del",{"$nulls":3},"rd_dq26_del",{"$nulls":3},"rd_dq25_del",{"$nulls":3},"rd_dq24_del"]
[]
[null,"0x021b0828",{"$f":"BIN2HEX(D285&E285&F285&G285)&BIN2HEX(H285&I285&J285&K285)&BIN2HEX(L285&M285&N285&O285)&BIN2HEX(P285&Q285&R285&S285)&BIN2HEX(T285&U285&V285&W285)&BIN2HEX(X285&Y285&Z285&AA285)&BIN2HEX(AB285&AC285&AD285&AE285)&BIN2HEX(AF285&AG285&AH285&AI285)","v":"33333333"},0,0,1,1,0,0,1,1,0,0,1,1,0,0,1,1,0,0,1,1,0,0,1,1,0,0,1,1,0,0,1,1]
[null,"0x021b4828",{"$f":"BIN2HEX(D286&E286&F286&G286)&BIN2HEX(H286&I286&J286&K286)&BIN2HEX(L286&M286&N286&O286)&BIN2HEX(P286&Q286&R286&S286)&BIN2HEX(T286&U286&V286&W286)&BIN2HEX(X286&Y286&Z286&AA286)&BIN2HEX(AB286&AC286&AD286&AE286)&BIN2HEX(AF286&AG286&AH286&AI286)","v":"33333333"},0,0,1,1,0,0,1,1,0,0,1,1,0,0,1,1,0,0,1,1,0,0,1,1,0,0,1,1,0,0,1,1]
[]
[null,"Register address (HEX): ","register value (hex)",31,30,29,28,27,26,25,24,23,22,21,20,19,18,17,16,15,14,13,12,11,10,9,8,7,6,5,4,3,2,1,0]
[null,"MPDCCR",null,null,"RD_DQS3_FT_DCC",null,null,"RD_DQS2_FT_DCC",null,null,"RD_DQS1_FT_DCC",null,null,"RD_DQS0_FT_DCC",null,null,"CK_FT1_DCC",{"$nulls":3},"CK_FT0_DCC",null,null,"WR_DQS3_FT_DCC",null,null,"WR_DQS2_FT_DCC",null,null,"WR_DQS1_FT_DCC",null,null,"WR_DQS0_FT_DCC"]
[]
[null,"0x021b08c0",{"$f":"BIN2HEX(D291&E291&F291&G291)&BIN2HEX(H291&I291&J291&K291)&BIN2HEX(L291&M291&N291&O291)&BIN2HEX(P291&Q291&R291&S291)&BIN2HEX(T291&U291&V291&W291)&BIN2HEX(X291&Y291&Z291&AA291)&BIN2HEX(AB291&AC291&AD291&AE291)&BIN2HEX(AF291&AG291&AH291&AI291)","v":"24911492"},0,0,1,0,0,1,0,0,1,0,0,1,0,0,0,1,0,0,0,1,0,1,0,0,1,0,0,1,0,0,1,0]
[null,"0x021b48c0",{"$f":"BIN2HEX(D292&E292&F292&G292)&BIN2HEX(H292&I292&J292&K292)&BIN2HEX(L292&M292&N292&O292)&BIN2HEX(P292&Q292&R292&S292)&BIN2HEX(T292&U292&V292&W292)&BIN2HEX(X292&Y292&Z292&AA292)&BIN2HEX(AB292&AC292&AD292&AE292)&BIN2HEX(AF292&AG292&AH292&AI292)","v":"24911492"},0,0,1,0,0,1,0,0,1,0,0,1,0,0,0,1,0,0,0,1,0,1,0,0,1,0,0,1,0,0,1,0]
[]
[null,"Register address (HEX): ","register value (hex)",31,30,29,28,27,26,25,24,23,22,21,20,19,18,17,16,15,14,13,12,11,10,9,8,7,6,5,4,3,2,1,0]
[null,"MPMUR0",{"$nulls":21},"FRC_MSR","MU_BYP_EN","MU_BPY_VAL"]
[]
[null,"0x021b08b8",{"$f":"BIN2HEX(D297&E297&F297&G297)&BIN2HEX(H297&I297&J297&K297)&BIN2HEX(L297&M297&N297&O297)&BIN2HEX(P297&Q297&R297&S297)&BIN2HEX(T297&U297&V297&W297)&BIN2HEX(X297&Y297&Z297&AA297)&BIN2HEX(AB297&AC297&AD297&AE297)&BIN2HEX(AF297&AG297&AH297&AI297)","v":"00000800"},0,0,0,0,0,0,0,0,0,0,0,0,0,0,0,0,0,0,0,0,1,0,0,0,0,0,0,0,0,0,0,0]
[null,"0x021b48b8",{"$f":"BIN2HEX(D298&E298&F298&G298)&BIN2HEX(H298&I298&J298&K298)&BIN2HEX(L298&M298&N298&O298)&BIN2HEX(P298&Q298&R298&S298)&BIN2HEX(T298&U298&V298&W298)&BIN2HEX(X298&Y298&Z298&AA298)&BIN2HEX(AB298&AC298&AD298&AE298)&BIN2HEX(AF298&AG298&AH298&AI298)","v":"00000800"},0,0,0,0,0,0,0,0,0,0,0,0,0,0,0,0,0,0,0,0,1,0,0,0,0,0,0,0,0,0,0,0]
[]
[null,"Register address (HEX): ","register value (hex)",31,30,29,28,27,26,25,24,23,22,21,20,19,18,17,16,15,14,13,12,11,10,9,8,7,6,5,4,3,2,1,0]
[null,"MDPDC",null,null,"PRCT_1",{"$nulls":3},"PRCT_0",{"$nulls":7},"tCKE",null,null,"PWDT_1",{"$nulls":3},"PWDT_0",{"$nulls":3},"SL_OW_PD","BOTH_CS_PD","tCKSRX",null,null,"tCKSRE"]
[]
[null,"0x021b0004",{"$f":"BIN2HEX(D303&E303&F303&G303)&BIN2HEX(H303&I303&J303&K303)&BIN2HEX(L303&M303&N303&O303)&BIN2HEX(P303&Q303&R303&S303)&BIN2HEX(T303&U303&V303&W303)&BIN2HEX(X303&Y303&Z303&AA303)&BIN2HEX(AB303&AC303&AD303&AE303)&BIN2HEX(AF303&AG303&AH303&AI303)","v":"0002002D"},0,0,0,0,0,0,0,0,0,0,0,0,0,{"$f":"IF(D5=1600,MOD(ROUNDDOWN((ROUNDUP(MAX(3*C24,5)/C24,0)-1)/4,0),2),IF(D5=800,MOD(ROUNDDOWN((ROUNDUP(MAX(3*C24,7.5)/C24,0)-1)/4,0),2),MOD(ROUNDDOWN((ROUNDUP(MAX(3*C24,5.625)/C24,0)-1)/4,0),2)))","v":0},{"$f":"IF(D5=1600,MOD(ROUNDDOWN((ROUNDUP(MAX(3*C24,5)/C24,0)-1)/2,0),2),IF(D5=800,MOD(ROUNDDOWN((ROUNDUP(MAX(3*C24,7.5)/C24,0)-1)/2,0),2),MOD(ROUNDDOWN((ROUNDUP(MAX(3*C24,5.625)/C24,0)-1)/2,0),2)))","v":1},{"$f":"IF(D5=1600,MOD((ROUNDUP(MAX(3*C24,5)/C24,0)-1),2),IF(D5=800,MOD((ROUNDUP(MAX(3*C24,7.5)/C24,0)-1),2),MOD((ROUNDUP(MAX(3*C24,5.625)/C24,0)-1),2)))","v":0},0,0,0,0,0,0,0,0,0,0,{"$f":"LEFT(RIGHT(DEC2BIN(ROUNDUP(MAX(5*C24,10)/C24,0)),3))","v":"1"},{"$f":"LEFT(RIGHT(DEC2BIN(ROUNDUP(MAX(5*C24,10)/C24,0)),2))","v":"0"},{"$f":"RIGHT(DEC2BIN(ROUNDUP(MAX(5*C24,10)/C24,0)),1)","v":"1"},{"$f":"LEFT(RIGHT(DEC2BIN(ROUNDUP(MAX(5*C24,10)/C24,0)),3))","v":"1"},{"$f":"LEFT(RIGHT(DEC2BIN(ROUNDUP(MAX(5*C24,10)/C24,0)),2))","v":"0"},{"$f":"RIGHT(DEC2BIN(ROUNDUP(MAX(5*C24,10)/C24,0)),1)","v":"1"}]
[]
[null,"Register address (HEX): ","register value (hex)",31,30,29,28,27,26,25,24,23,22,21,20,19,18,17,16,15,14,13,12,11,10,9,8,7,6,5,4,3,2,1,0]
[null,"MDOTC",{"$nulls":3},"tAOFPD",null,null,"tAONPD",null,null,"tANPD",{"$nulls":3},"tAXPD",{"$nulls":4},"tODTLon",{"$nulls":5},"tODT_idle_off"]
[]
[null,"0x021b0008",{"$f":"BIN2HEX(D308&E308&F308&G308)&BIN2HEX(H308&I308&J308&K308)&BIN2HEX(L308&M308&N308&O308)&BIN2HEX(P308&Q308&R308&S308)&BIN2HEX(T308&U308&V308&W308)&BIN2HEX(X308&Y308&Z308&AA308)&BIN2HEX(AB308&AC308&AD308&AE308)&BIN2HEX(AF308&AG308&AH308&AI308)","v":"1B333030"},0,0,0,{"$f":"MOD(ROUNDDOWN((ROUNDUP(8.5/C24,0)-1)/2,0),2)","v":1},{"$f":"MOD(ROUNDUP(8.5/C24,0)-1,2)","v":1},0,{"$f":"MOD(ROUNDDOWN((ROUNDUP(8.5/C24,0)-1)/2,0),2)","v":1},{"$f":"MOD(ROUNDUP(8.5/C24,0)-1,2)","v":1},{"$f":"IF(C24>=2.5,MOD(ROUNDDOWN(3/8,0),2),IF(C24>=1.875,MOD(ROUNDDOWN(4/8,0),2),IF(C24>=1.5,MOD(ROUNDDOWN(5/8,0),2),MOD(ROUNDDOWN(6/8,0),2))))","v":0},{"$f":"IF(C24>=2.5,MOD(ROUNDDOWN(3/4,0),2),IF(C24>=1.875,MOD(ROUNDDOWN(4/4,0),2),IF(C24>=1.5,MOD(ROUNDDOWN(5/4,0),2),MOD(ROUNDDOWN(6/4,0),2))))","v":0},{"$f":"IF(C24>=2.5,MOD(ROUNDDOWN(3/2,0),2),IF(C24>=1.875,MOD(ROUNDDOWN(4/2,0),2),IF(C24>=1.5,MOD(ROUNDDOWN(5/2,0),2),MOD(ROUNDDOWN(6/2,0),2))))","v":1},{"$f":"IF(C24>=2.5,MOD(3,2),IF(C24>=1.875,MOD(4,2),IF(C24>=1.5,MOD(5,2),MOD(6,2))))","v":1},{"$f":"IF(C24>=2.5,MOD(ROUNDDOWN(3/8,0),2),IF(C24>=1.875,MOD(ROUNDDOWN(4/8,0),2),IF(C24>=1.5,MOD(ROUNDDOWN(5/8,0),2),MOD(ROUNDDOWN(6/8,0),2))))","v":0},{"$f":"IF(C24>=2.5,MOD(ROUNDDOWN(3/4,0),2),IF(C24>=1.875,MOD(ROUNDDOWN(4/4,0),2),IF(C24>=1.5,MOD(ROUNDDOWN(5/4,0),2),MOD(ROUNDDOWN(6/4,0),2))))","v":0},{"$f":"IF(C24>=2.5,MOD(ROUNDDOWN(3/2,0),2),IF(C24>=1.875,MOD(ROUNDDOWN(4/2,0),2),IF(C24>=1.5,MOD(ROUNDDOWN(5/2,0),2),MOD(ROUNDDOWN(6/2,0),2))))","v":1},{"$f":"IF(C24>=2.5,MOD(3,2),IF(C24>=1.875,MOD(4,2),IF(C24>=1.5,MOD(5,2),MOD(6,2))))","v":1},0,{"$f":"IF(C24>=2.5,MOD(ROUNDDOWN(3/4,0),2),IF(C24>=1.875,MOD(ROUNDDOWN(4/4,0),2),IF(C24>=1.5,MOD(ROUNDDOWN(5/4,0),2),MOD(ROUNDDOWN(6/4,0),2))))","v":0},{"$f":"IF(C24>=2.5,MOD(ROUNDDOWN(3/2,0),2),IF(C24>=1.875,MOD(ROUNDDOWN(4/2,0),2),IF(C24>=1.5,MOD(ROUNDDOWN(5/2,0),2),MOD(ROUNDDOWN(6/2,0),2))))","v":1},{"$f":"IF(C24>=2.5,MOD(3,2),IF(C24>=1.875,MOD(4,2),IF(C24>=1.5,MOD(5,2),MOD(6,2))))","v":1},0,0,0,0,0,{"$f":"IF(C24>=2.5,MOD(ROUNDDOWN(3/4,0),2),IF(C24>=1.875,MOD(ROUNDDOWN(4/4,0),2),IF(C24>=1.5,MOD(ROUNDDOWN(5/4,0),2),MOD(ROUNDDOWN(6/4,0),2))))","v":0},{"$f":"IF(C24>=2.5,MOD(ROUNDDOWN(3/2,0),2),IF(C24>=1.875,MOD(ROUNDDOWN(4/2,0),2),IF(C24>=1.5,MOD(ROUNDDOWN(5/2,0),2),MOD(ROUNDDOWN(6/2,0),2))))","v":1},{"$f":"IF(C24>=2.5,MOD(3,2),IF(C24>=1.875,MOD(4,2),IF(C24>=1.5,MOD(5,2),MOD(6,2))))","v":1},0,0,0,0]
[]
[null,"Register address (HEX): ","register value (hex)",31,30,29,28,27,26,25,24,23,22,21,20,19,18,17,16,15,14,13,12,11,10,9,8,7,6,5,4,3,2,1,0]
[null,"MDCFG0",null,"tRFC",{"$nulls":7},"tXS",{"$nulls":7},"tXP",null,null,"tXPDLL",{"$nulls":3},"tFAW",{"$nulls":4},"tCL"]
[]
[null,"0x021b000c",{"$f":"BIN2HEX(D313&E313&F313&G313)&BIN2HEX(H313&I313&J313&K313)&BIN2HEX(L313&M313&N313&O313)&BIN2HEX(P313&Q313&R313&S313)&BIN2HEX(T313&U313&V313&W313)&BIN2HEX(X313&Y313&Z313&AA313)&BIN2HEX(AB313&AC313&AD313&AE313)&BIN2HEX(AF313&AG313&AH313&AI313)","v":"676B52F3"},{"$f":"IF(C6=1,MOD(ROUNDDOWN((ROUNDUP(110/C24,0)-1)/128,0),2),IF(C6=2,MOD(ROUNDDOWN((ROUNDUP(160/C24,0)-1)/128,0),2),IF(C6=4,MOD(ROUNDDOWN((ROUNDUP(260/C24,0)-1)/128,0),2),MOD(ROUNDDOWN((ROUNDUP(350/C24,0)-1)/128,0),2))))","v":0},{"$f":"IF(C6=1,MOD(ROUNDDOWN((ROUNDUP(110/C24,0)-1)/64,0),2),IF(C6=2,MOD(ROUNDDOWN((ROUNDUP(160/C24,0)-1)/64,0),2),IF(C6=4,MOD(ROUNDDOWN((ROUNDUP(260/C24,0)-1)/64,0),2),MOD(ROUNDDOWN((ROUNDUP(350/C24,0)-1)/64,0),2))))","v":1},{"$f":"IF(C6=1,MOD(ROUNDDOWN((ROUNDUP(110/C24,0)-1)/32,0),2),IF(C6=2,MOD(ROUNDDOWN((ROUNDUP(160/C24,0)-1)/32,0),2),IF(C6=4,MOD(ROUNDDOWN((ROUNDUP(260/C24,0)-1)/32,0),2),MOD(ROUNDDOWN((ROUNDUP(350/C24,0)-1)/32,0),2))))","v":1},{"$f":"IF(C6=1,MOD(ROUNDDOWN((ROUNDUP(110/C24,0)-1)/16,0),2),IF(C6=2,MOD(ROUNDDOWN((ROUNDUP(160/C24,0)-1)/16,0),2),IF(C6=4,MOD(ROUNDDOWN((ROUNDUP(260/C24,0)-1)/16,0),2),MOD(ROUNDDOWN((ROUNDUP(350/C24,0)-1)/16,0),2))))","v":0},{"$f":"IF(C6=1,MOD(ROUNDDOWN((ROUNDUP(110/C24,0)-1)/8,0),2),IF(C6=2,MOD(ROUNDDOWN((ROUNDUP(160/C24,0)-1)/8,0),2),IF(C6=4,MOD(ROUNDDOWN((ROUNDUP(260/C24,0)-1)/8,0),2),MOD(ROUNDDOWN((ROUNDUP(350/C24,0)-1)/8,0),2))))","v":0},{"$f":"IF(C6=1,MOD(ROUNDDOWN((ROUNDUP(110/C24,0)-1)/4,0),2),IF(C6=2,MOD(ROUNDDOWN((ROUNDUP(160/C24,0)-1)/4,0),2),IF(C6=4,MOD(ROUNDDOWN((ROUNDUP(260/C24,0)-1)/4,0),2),MOD(ROUNDDOWN((ROUNDUP(350/C24,0)-1)/4,0),2))))","v":1},{"$f":"IF(C6=1,MOD(ROUNDDOWN((ROUNDUP(110/C24,0)-1)/2,0),2),IF(C6=2,MOD(ROUNDDOWN((ROUNDUP(160/C24,0)-1)/2,0),2),IF(C6=4,MOD(ROUNDDOWN((ROUNDUP(260/C24,0)-1)/2,0),2),MOD(ROUNDDOWN((ROUNDUP(350/C24,0)-1)/2,0),2))))","v":1},{"$f":"IF(C6=1,MOD((ROUNDUP(110/C24,0)-1),2),IF(C6=2,MOD((ROUNDUP(160/C24,0)-1),2),IF(C6=4,MOD((ROUNDUP(260/C24,0)-1),2),MOD((ROUNDUP(350/C24,0)-1),2))))","v":1},{"$f":"IF(C6=1,MOD(ROUNDDOWN((ROUNDUP(120/C24,0)-1)/128,0),2),IF(C6=2,MOD(ROUNDDOWN((ROUNDUP(170/C24,0)-1)/128,0),2),IF(C6=4,MOD(ROUNDDOWN((ROUNDUP(270/C24,0)-1)/128,0),2),MOD(ROUNDDOWN((ROUNDUP(360/C24,0)-1)/128,0),2))))","v":0},{"$f":"IF(C6=1,MOD(ROUNDDOWN((ROUNDUP(120/C24,0)-1)/64,0),2),IF(C6=2,MOD(ROUNDDOWN((ROUNDUP(170/C24,0)-1)/64,0),2),IF(C6=4,MOD(ROUNDDOWN((ROUNDUP(270/C24,0)-1)/64,0),2),MOD(ROUNDDOWN((ROUNDUP(360/C24,0)-1)/64,0),2))))","v":1},{"$f":"IF(C6=1,MOD(ROUNDDOWN((ROUNDUP(120/C24,0)-1)/32,0),2),IF(C6=2,MOD(ROUNDDOWN((ROUNDUP(170/C24,0)-1)/32,0),2),IF(C6=4,MOD(ROUNDDOWN((ROUNDUP(270/C24,0)-1)/32,0),2),MOD(ROUNDDOWN((ROUNDUP(360/C24,0)-1)/32,0),2))))","v":1},{"$f":"IF(C6=1,MOD(ROUNDDOWN((ROUNDUP(120/C24,0)-1)/16,0),2),IF(C6=2,MOD(ROUNDDOWN((ROUNDUP(170/C24,0)-1)/16,0),2),IF(C6=4,MOD(ROUNDDOWN((ROUNDUP(270/C24,0)-1)/16,0),2),MOD(ROUNDDOWN((ROUNDUP(360/C24,0)-1)/16,0),2))))","v":0},{"$f":"IF(C6=1,MOD(ROUNDDOWN((ROUNDUP(120/C24,0)-1)/8,0),2),IF(C6=2,MOD(ROUNDDOWN((ROUNDUP(170/C24,0)-1)/8,0),2),IF(C6=4,MOD(ROUNDDOWN((ROUNDUP(270/C24,0)-1)/8,0),2),MOD(ROUNDDOWN((ROUNDUP(360/C24,0)-1)/8,0),2))))","v":1},{"$f":"IF(C6=1,MOD(ROUNDDOWN((ROUNDUP(120/C24,0)-1)/4,0),2),IF(C6=2,MOD(ROUNDDOWN((ROUNDUP(170/C24,0)-1)/4,0),2),IF(C6=4,MOD(ROUNDDOWN((ROUNDUP(270/C24,0)-1)/4,0),2),MOD(ROUNDDOWN((ROUNDUP(360/C24,0)-1)/4,0),2))))","v":0},{"$f":"IF(C6=1,MOD(ROUNDDOWN((ROUNDUP(120/C24,0)-1)/2,0),2),IF(C6=2,MOD(ROUNDDOWN((ROUNDUP(170/C24,0)-1)/2,0),2),IF(C6=4,MOD(ROUNDDOWN((ROUNDUP(270/C24,0)-1)/2,0),2),MOD(ROUNDDOWN((ROUNDUP(360/C24,0)-1)/2,0),2))))","v":1},{"$f":"IF(C6=1,MOD((ROUNDUP(120/C24,0)-1),2),IF(C6=2,MOD((ROUNDUP(170/C24,0)-1),2),IF(C6=4,MOD((ROUNDUP(270/C24,0)-1),2),MOD((ROUNDUP(360/C24,0)-1),2))))","v":1},{"$f":"IF(D5<=1066,MOD(ROUNDDOWN((ROUNDUP(MAX(3*C24,7.5)/C24,0)-1)/4,0),2),MOD(ROUNDDOWN((ROUNDUP(MAX(3*C24,6)/C24,0)-1)/4,0),2))","v":0},{"$f":"IF(D5<=1066,MOD(ROUNDDOWN((ROUNDUP(MAX(3*C24,7.5)/C24,0)-1)/2,0),2),MOD(ROUNDDOWN((ROUNDUP(MAX(3*C24,6)/C24,0)-1)/2,0),2))","v":1},{"$f":"IF(D5<=1066,MOD((ROUNDUP(MAX(3*C24,7.5)/C24,0)-1),2),MOD((ROUNDUP(MAX(3*C24,6)/C24,0)-1),2))","v":0},{"$f":"MOD(ROUNDDOWN((ROUNDUP(MAX(10*C24,24)/C24,0)-1)/8,0),2)","v":1},{"$f":"MOD(ROUNDDOWN((ROUNDUP(MAX(10*C24,24)/C24,0)-1)/4,0),2)","v":0},{"$f":"MOD(ROUNDDOWN((ROUNDUP(MAX(10*C24,24)/C24,0)-1)/2,0),2)","v":0},{"$f":"MOD((ROUNDUP(MAX(10*C24,24)/C24,0)-1),2)","v":1},{"$f":"IF(C11=1,IF(D5=800,MOD(ROUNDDOWN((ROUNDUP(40/C24,0)-1)/16,0),2),IF(D5=1066,MOD(ROUNDDOWN((ROUNDUP(37.5/C24,0)-1)/16,0),2),MOD(ROUNDDOWN((ROUNDUP(30/C24,0)-1)/16,0),2))),IF(D5=1333,MOD(ROUNDDOWN((ROUNDUP(45/C24,0)-1)/16,0),2),IF(D5=1600,MOD(ROUNDDOWN((ROUNDUP(40/C24,0)-1)/16,0),2),MOD(ROUNDDOWN((ROUNDUP(50/C24,0)-1)/16,0),2))))","v":0},{"$f":"IF(C11=1,IF(D5=800,MOD(ROUNDDOWN((ROUNDUP(40/C24,0)-1)/8,0),2),IF(D5=1066,MOD(ROUNDDOWN((ROUNDUP(37.5/C24,0)-1)/8,0),2),MOD(ROUNDDOWN((ROUNDUP(30/C24,0)-1)/8,0),2))),IF(D5=1333,MOD(ROUNDDOWN((ROUNDUP(45/C24,0)-1)/8,0),2),IF(D5=1600,MOD(ROUNDDOWN((ROUNDUP(40/C24,0)-1)/8,0),2),MOD(ROUNDDOWN((ROUNDUP(50/C24,0)-1)/8,0),2))))","v":1},{"$f":"IF(C11=1,IF(D5=800,MOD(ROUNDDOWN((ROUNDUP(40/C24,0)-1)/4,0),2),IF(D5=1066,MOD(ROUNDDOWN((ROUNDUP(37.5/C24,0)-1)/4,0),2),MOD(ROUNDDOWN((ROUNDUP(30/C24,0)-1)/4,0),2))),IF(D5=1333,MOD(ROUNDDOWN((ROUNDUP(45/C24,0)-1)/4,0),2),IF(D5=1600,MOD(ROUNDDOWN((ROUNDUP(40/C24,0)-1)/4,0),2),MOD(ROUNDDOWN((ROUNDUP(50/C24,0)-1)/4,0),2))))","v":1},{"$f":"IF(C11=1,IF(D5=800,MOD(ROUNDDOWN((ROUNDUP(40/C24,0)-1)/2,0),2),IF(D5=1066,MOD(ROUNDDOWN((ROUNDUP(37.5/C24,0)-1)/2,0),2),MOD(ROUNDDOWN((ROUNDUP(30/C24,0)-1)/2,0),2))),IF(D5=1333,MOD(ROUNDDOWN((ROUNDUP(45/C24,0)-1)/2,0),2),IF(D5=1600,MOD(ROUNDDOWN((ROUNDUP(40/C24,0)-1)/2,0),2),MOD(ROUNDDOWN((ROUNDUP(50/C24,0)-1)/2,0),2))))","v":1},{"$f":"IF(C11=1,IF(D5=800,MOD((ROUNDUP(40/C24,0)-1),2),IF(D5=1066,MOD((ROUNDUP(37.5/C24,0)-1),2),MOD((ROUNDUP(30/C24,0)-1),2))),IF(D5=1333,MOD((ROUNDUP(45/C24,0)-1),2),IF(D5=1600,MOD((ROUNDUP(40/C24,0)-1),2),MOD((ROUNDUP(50/C24,0)-1),2))))","v":1},{"$f":"MOD(ROUNDDOWN((ROUNDUP(C14/C24,0)-3)/8,0),2)","v":0},{"$f":"MOD(ROUNDDOWN((ROUNDUP(C14/C24,0)-3)/4,0),2)","v":0},{"$f":"MOD(ROUNDDOWN((ROUNDUP(C14/C24,0)-3)/2,0),2)","v":1},{"$f":"MOD((ROUNDUP(C14/C24,0)-3),2)","v":1}]
[]
[null,"Register address (HEX): ","register value (hex)",31,30,29,28,27,26,25,24,23,22,21,20,19,18,17,16,15,14,13,12,11,10,9,8,7,6,5,4,3,2,1,0]
[null,"MDCFG1",null,"tRCD",null,null,"tRP",null,null,"tRC",{"$nulls":4},"tRAS",{"$nulls":4},"tRPA",{"$nulls":3},"tWR",null,null,"tMRD",{"$nulls":5},"tCWL"]
[]
[null,"0x021b0010",{"$f":"BIN2HEX(D318&E318&F318&G318)&BIN2HEX(H318&I318&J318&K318)&BIN2HEX(L318&M318&N318&O318)&BIN2HEX(P318&Q318&R318&S318)&BIN2HEX(T318&U318&V318&W318)&BIN2HEX(X318&Y318&Z318&AA318)&BIN2HEX(AB318&AC318&AD318&AE318)&BIN2HEX(AF318&AG318&AH318&AI318)","v":"B66D0B63"},{"$f":"MOD(ROUNDDOWN((ROUNDUP(C14/C24,0)-1)/4,0),2)","v":1},{"$f":"MOD(ROUNDDOWN((ROUNDUP(C14/C24,0)-1)/2,0),2)","v":0},{"$f":"MOD((ROUNDUP(C14/C24,0)-1),2)","v":1},{"$f":"MOD(ROUNDDOWN((ROUNDUP(C14/C24,0)-1)/4,0),2)","v":1},{"$f":"MOD(ROUNDDOWN((ROUNDUP(C14/C24,0)-1)/2,0),2)","v":0},{"$f":"MOD((ROUNDUP(C14/C24,0)-1),2)","v":1},{"$f":"MOD(ROUNDDOWN((ROUNDUP(C15/C24,0)-1)/16,0),2)","v":1},{"$f":"MOD(ROUNDDOWN((ROUNDUP(C15/C24,0)-1)/8,0),2)","v":0},{"$f":"MOD(ROUNDDOWN((ROUNDUP(C15/C24,0)-1)/4,0),2)","v":0},{"$f":"MOD(ROUNDDOWN((ROUNDUP(C15/C24,0)-1)/2,0),2)","v":1},{"$f":"MOD((ROUNDUP(C15/C24,0)-1),2)","v":1},{"$f":"MOD(ROUNDDOWN((ROUNDUP(C16/C24,0)-1)/16,0),2)","v":0},{"$f":"MOD(ROUNDDOWN((ROUNDUP(C16/C24,0)-1)/8,0),2)","v":1},{"$f":"MOD(ROUNDDOWN((ROUNDUP(C16/C24,0)-1)/4,0),2)","v":1},{"$f":"MOD(ROUNDDOWN((ROUNDUP(C16/C24,0)-1)/2,0),2)","v":0},{"$f":"MOD((ROUNDUP(C16/C24,0)-1),2)","v":1},0,0,0,0,{"$f":"MOD(ROUNDDOWN((ROUNDUP(15/C24,0)-1)/4,0),2)","v":1},{"$f":"MOD(ROUNDDOWN((ROUNDUP(15/C24,0)-1)/2,0),2)","v":0},{"$f":"MOD((ROUNDUP(15/C24,0)-1),2)","v":1},{"$f":"MOD(ROUNDDOWN((ROUNDUP(MAX(12*C24,15)/C24,0)-1)/8,0),2)","v":1},{"$f":"MOD(ROUNDDOWN((ROUNDUP(MAX(12*C24,15)/C24,0)-1)/4,0),2)","v":0},{"$f":"MOD(ROUNDDOWN((ROUNDUP(MAX(12*C24,15)/C24,0)-1)/2,0),2)","v":1},{"$f":"MOD((ROUNDUP(MAX(12*C24,15)/C24,0)-1),2)","v":1},0,0,{"$f":"IF(C24>=2.5,MOD(ROUNDDOWN(3/4,0),2),IF(C24>=1.875,MOD(ROUNDDOWN(4/4,0),2),IF(C24>=1.5,MOD(ROUNDDOWN(5/4,0),2),MOD(ROUNDDOWN(6/4,0),2))))","v":0},{"$f":"IF(C24>=2.5,MOD(ROUNDDOWN(3/2,0),2),IF(C24>=1.875,MOD(ROUNDDOWN(4/2,0),2),IF(C24>=1.5,MOD(ROUNDDOWN(5/2,0),2),MOD(ROUNDDOWN(6/2,0),2))))","v":1},{"$f":"IF(C24>=2.5,MOD(3,2),IF(C24>=1.875,MOD(4,2),IF(C24>=1.5,MOD(5,2),MOD(6,2))))","v":1}]
[]
[null,"Register address (HEX): ","register value (hex)",31,30,29,28,27,26,25,24,23,22,21,20,19,18,17,16,15,14,13,12,11,10,9,8,7,6,5,4,3,2,1,0]
[null,"MDCFG2",{"$nulls":8},"tDLLK",{"$nulls":15},"tRTP",null,null,"tWTR",null,null,"tRRD"]
[]
[null,"0x021b0014",{"$f":"BIN2HEX(D323&E323&F323&G323)&BIN2HEX(H323&I323&J323&K323)&BIN2HEX(L323&M323&N323&O323)&BIN2HEX(P323&Q323&R323&S323)&BIN2HEX(T323&U323&V323&W323)&BIN2HEX(X323&Y323&Z323&AA323)&BIN2HEX(AB323&AC323&AD323&AE323)&BIN2HEX(AF323&AG323&AH323&AI323)","v":"01FF00DB"},0,0,0,0,0,0,0,1,1,1,1,1,1,1,1,1,0,0,0,0,0,0,0,{"$f":"MOD(ROUNDDOWN((ROUNDUP(MAX(4*C24,7.5)/C24,0)-1)/4,0),2)","v":0},{"$f":"MOD(ROUNDDOWN((ROUNDUP(MAX(4*C24,7.5)/C24,0)-1)/2,0),2)","v":1},{"$f":"MOD((ROUNDUP(MAX(4*C24,7.5)/C24,0)-1),2)","v":1},{"$f":"MOD(ROUNDDOWN((ROUNDUP(MAX(4*C24,7.5)/C24,0)-1)/4,0),2)","v":0},{"$f":"MOD(ROUNDDOWN((ROUNDUP(MAX(4*C24,7.5)/C24,0)-1)/2,0),2)","v":1},{"$f":"MOD((ROUNDUP(MAX(4*C24,7.5)/C24,0)-1),2)","v":1},{"$f":"IF(C11=1,IF(D5=800,MOD(ROUNDDOWN((ROUNDUP(MAX(4*C24,10)/C24,0)-1)/4,0),2),IF(D5=1066,MOD(ROUNDDOWN((ROUNDUP(MAX(4*C24,7.5)/C24,0)-1)/4,0),2),MOD(ROUNDDOWN((ROUNDUP(MAX(4*C24,6)/C24,0)-1)/4,0),2))),IF(D5<=1066,MOD(ROUNDDOWN((ROUNDUP(MAX(4*C24,10)/C24,0)-1)/4,0),2),MOD(ROUNDDOWN((ROUNDUP(MAX(4*C24,7.5)/C24,0)-1)/4,0),2)))","v":0},{"$f":"IF(C11=1,IF(D5=800,MOD(ROUNDDOWN((ROUNDUP(MAX(4*C24,10)/C24,0)-1)/2,0),2),IF(D5=1066,MOD(ROUNDDOWN((ROUNDUP(MAX(4*C24,7.5)/C24,0)-1)/2,0),2),MOD(ROUNDDOWN((ROUNDUP(MAX(4*C24,6)/C24,0)-1)/2,0),2))),IF(D5<=1066,MOD(ROUNDDOWN((ROUNDUP(MAX(4*C24,10)/C24,0)-1)/2,0),2),MOD(ROUNDDOWN((ROUNDUP(MAX(4*C24,7.5)/C24,0)-1)/2,0),2)))","v":1},{"$f":"IF(C11=1,IF(D5=800,MOD((ROUNDUP(MAX(4*C24,10)/C24,0)-1),2),IF(D5=1066,MOD((ROUNDUP(MAX(4*C24,7.5)/C24,0)-1),2),MOD((ROUNDUP(MAX(4*C24,6)/C24,0)-1),2))),IF(D5<=1066,MOD((ROUNDUP(MAX(4*C24,10)/C24,0)-1),2),MOD((ROUNDUP(MAX(4*C24,7.5)/C24,0)-1),2)))","v":1}]
[]
[null,"Register address (HEX): ","register value (hex)",31,30,29,28,27,26,25,24,23,22,21,20,19,18,17,16,15,14,13,12,11,10,9,8,7,6,5,4,3,2,1,0]
[null,"MDMISC",{"$nulls":11},"CK1_GATING","CALIB_PER_CS","ADDR_MIRROR","LHD","WALAT",{"$nulls":4},"BI_ON","LPDDR2_S2","MIF3_MODE",null,"RALAT",null,null,"DDR_4_BANK","DDR_TYPE",null,"LPDDR2_CH2","RST"]
[]
[null,"0x021b0018",{"$f":"BIN2HEX(D328&E328&F328&G328)&BIN2HEX(H328&I328&J328&K328)&BIN2HEX(L328&M328&N328&O328)&BIN2HEX(P328&Q328&R328&S328)&BIN2HEX(T328&U328&V328&W328)&BIN2HEX(X328&Y328&Z328&AA328)&BIN2HEX(AB328&AC328&AD328&AE328)&BIN2HEX(AF328&AG328&AH328&AI328)","v":"00211740"},0,0,0,0,0,0,0,0,0,0,1,0,{"$f":"IF(C25=\"Enable\",1,0)","v":0},0,0,1,0,0,0,1,0,1,1,1,0,1,0,0,0,0,0,0]
[]
[null,"Register address (HEX): ","register value (hex)",31,30,29,28,27,26,25,24,23,22,21,20,19,18,17,16,15,14,13,12,11,10,9,8,7,6,5,4,3,2,1,0]
[null,"MDSCR",null,"CMD_ADDR_MSB_MR_OP",{"$nulls":7},"CMD_ADDR_LSB_MR_ADDR",{"$nulls":7},"CON_REQ",{"$nulls":5},"WL_EN",null,null,"CMD",null,null,"CMD_CS","CMD_BA"]
[]
[null,"0x021b001c",{"$f":"BIN2HEX(D333&E333&F333&G333)&BIN2HEX(H333&I333&J333&K333)&BIN2HEX(L333&M333&N333&O333)&BIN2HEX(P333&Q333&R333&S333)&BIN2HEX(T333&U333&V333&W333)&BIN2HEX(X333&Y333&Z333&AA333)&BIN2HEX(AB333&AC333&AD333&AE333)&BIN2HEX(AF333&AG333&AH333&AI333)","v":"00008000"},0,0,0,0,0,0,0,0,0,0,0,0,0,0,0,0,1,0,0,0,0,0,0,0,0,0,0,0,0,0,0,0]
[]
[null,"Register address (HEX): ","register value (hex)",31,30,29,28,27,26,25,24,23,22,21,20,19,18,17,16,15,14,13,12,11,10,9,8,7,6,5,4,3,2,1,0]
[null,"MDRWD",{"$nulls":4},"tDAI",{"$nulls":13},"RTW_SAME",null,null,"WTR_DIFF",null,null,"WTW_DIFF",null,null,"RTW_DIFF",null,null,"RTR_DIFF"]
[]
[null,"0x021b002c",{"$f":"BIN2HEX(D338&E338&F338&G338)&BIN2HEX(H338&I338&J338&K338)&BIN2HEX(L338&M338&N338&O338)&BIN2HEX(P338&Q338&R338&S338)&BIN2HEX(T338&U338&V338&W338)&BIN2HEX(X338&Y338&Z338&AA338)&BIN2HEX(AB338&AC338&AD338&AE338)&BIN2HEX(AF338&AG338&AH338&AI338)","v":"000026D2"},0,0,0,0,0,0,0,0,0,0,0,0,0,0,0,0,0,0,1,0,0,1,1,0,1,1,0,1,0,0,1,0]
[]
[null,"Register address (HEX): ","register value (hex)",31,30,29,28,27,26,25,24,23,22,21,20,19,18,17,16,15,14,13,12,11,10,9,8,7,6,5,4,3,2,1,0]
[null,"MDOR",{"$nulls":9},"tXPR",{"$nulls":9},"SDE_to_RST",{"$nulls":7},"RST_to_CKE"]
[]
[null,"0x021b0030",{"$f":"BIN2HEX(D343&E343&F343&G343)&BIN2HEX(H343&I343&J343&K343)&BIN2HEX(L343&M343&N343&O343)&BIN2HEX(P343&Q343&R343&S343)&BIN2HEX(T343&U343&V343&W343)&BIN2HEX(X343&Y343&Z343&AA343)&BIN2HEX(AB343&AC343&AD343&AE343)&BIN2HEX(AF343&AG343&AH343&AI343)","v":"006B1023"},0,0,0,0,0,0,0,0,{"$f":"L313","v":0},1,1,0,1,0,1,1,0,0,0,1,0,0,0,0,0,0,1,0,0,0,1,1]
[]
[null,"Register address (HEX): ","register value (hex)",31,30,29,28,27,26,25,24,23,22,21,20,19,18,17,16,15,14,13,12,11,10,9,8,7,6,5,4,3,2,1,0]
[null,"MDASP",{"$nulls":26},"CS0_END"]
[]
[null,"0x021b0040",{"$f":"BIN2HEX(D348&E348&F348&G348)&BIN2HEX(H348&I348&J348&K348)&BIN2HEX(L348&M348&N348&O348)&BIN2HEX(P348&Q348&R348&S348)&BIN2HEX(T348&U348&V348&W348)&BIN2HEX(X348&Y348&Z348&AA348)&BIN2HEX(AB348&AC348&AD348&AE348)&BIN2HEX(AF348&AG348&AH348&AI348)","v":"0000004F"},0,0,0,0,0,0,0,0,0,0,0,0,0,0,0,0,0,0,0,0,0,0,0,0,0,{"$f":"MOD(ROUNDDOWN((4*C20+63)/64,0),2)","v":1},{"$f":"MOD(ROUNDDOWN((4*C20+63)/32,0),2)","v":0},{"$f":"MOD(ROUNDDOWN((4*C20+63)/16,0),2)","v":0},{"$f":"MOD(ROUNDDOWN((4*C20+63)/8,0),2)","v":1},{"$f":"MOD(ROUNDDOWN((4*C20+63)/4,0),2)","v":1},{"$f":"MOD(ROUNDDOWN((4*C20+63)/2,0),2)","v":1},{"$f":"MOD(4*C20+63,2)","v":1}]
[]
[null,"Register address (HEX): ","register value (hex)",31,30,29,28,27,26,25,24,23,22,21,20,19,18,17,16,15,14,13,12,11,10,9,8,7,6,5,4,3,2,1,0]
[null,"MDCTL",null,"SDE_0","SDE_1",{"$nulls":3},"ROW",{"$nulls":3},"COL",null,null,"BL",null,"DSIZ"]
[]
[null,"0x021b0000",{"$f":"BIN2HEX(D353&E353&F353&G353)&BIN2HEX(H353&I353&J353&K353)&BIN2HEX(L353&M353&N353&O353)&BIN2HEX(P353&Q353&R353&S353)&BIN2HEX(T353&U353&V353&W353)&BIN2HEX(X353&Y353&Z353&AA353)&BIN2HEX(AB353&AC353&AD353&AE353)&BIN2HEX(AF353&AG353&AH353&AI353)","v":"84180000"},1,{"$f":"IF(C21=2,1,0)","v":0},0,0,0,{"$f":"MOD(ROUNDDOWN((C9-11)/4,0),2)","v":1},{"$f":"MOD(ROUNDDOWN((C9-11)/2,0),2)","v":0},{"$f":"MOD(C9-11,2)","v":0},0,{"$f":"MOD(ROUNDDOWN((C10-9)/4,0),2)","v":0},{"$f":"MOD(ROUNDDOWN((C10-9)/2,0),2)","v":0},{"$f":"MOD(C10-9,2)","v":1},1,0,{"$f":"IF(C19=64,MOD(ROUNDDOWN(2/2,0),2),IF(C19=32,MOD(ROUNDDOWN(1/2,0),2),MOD(ROUNDDOWN(0/2,0),2)))","v":0},{"$f":"IF(C19=64,MOD(2,2),IF(C19=32,MOD(1,2),MOD(0,2)))","v":0},0,0,0,0,0,0,0,0,0,0,0,0,0,0,0,0]
[]
[null,"Register address (HEX): MDSCR","register value (hex)",31,30,29,28,27,26,25,24,23,22,21,20,19,18,17,16,15,14,13,12,11,10,9,8,7,6,5,4,3,2,1,0]
[null,"0x021b001c",null,"CMD_ADDR_MSB_MR_OP",{"$nulls":7},"CMD_ADDR_LSB_MR_ADDR",{"$nulls":7},"CON_REQ",{"$nulls":5},"WL_EN",null,null,"CMD",null,null,"CMD_CS","CMD_BA"]
[]
[null,"CS0_MR2",{"$f":"BIN2HEX(D358&E358&F358&G358)&BIN2HEX(H358&I358&J358&K358)&BIN2HEX(L358&M358&N358&O358)&BIN2HEX(P358&Q358&R358&S358)&BIN2HEX(T358&U358&V358&W358)&BIN2HEX(X358&Y358&Z358&AA358)&BIN2HEX(AB358&AC358&AD358&AE358)&BIN2HEX(AF358&AG358&AH358&AI358)","v":"02008032"},0,0,0,0,0,{"$f":"MOD(ROUNDDOWN(IF(C31=\"Disable\",0,IF(C21=1,1,2))/2,0),2)","v":0},{"$f":"MOD(IF(C31=\"Disable\",0,IF(C21=1,1,2)),2)","v":1},0,{"$f":"IF(C12=\"Normal\",0,0)","v":0},0,{"$f":"IF(C24>=2.5,MOD(ROUNDDOWN(0/4,0),2),IF(C24>=1.875,MOD(ROUNDDOWN(1/4,0),2),IF(C24>=1.5,MOD(ROUNDDOWN(2/4,0),2),MOD(ROUNDDOWN(3/4,0),2))))","v":0},{"$f":"IF(C24>=2.5,MOD(ROUNDDOWN(0/2,0),2),IF(C24>=1.875,MOD(ROUNDDOWN(1/2,0),2),IF(C24>=1.5,MOD(ROUNDDOWN(2/2,0),2),MOD(ROUNDDOWN(3/2,0),2))))","v":0},{"$f":"IF(C24>=2.5,MOD(0,2),IF(C24>=1.875,MOD(1,2),IF(C24>=1.5,MOD(2,2),MOD(3,2))))","v":0},0,0,0,1,0,0,0,0,0,0,0,0,0,1,1,0,0,1,0]
[null,"CS0_MR3","00008033",0,0,0,0,0,0,0,0,0,0,0,0,0,0,0,0,1,0,0,0,0,0,0,0,0,0,1,1,0,0,1,1]
[null,"CS0_MR1","00048031",0,0,0,0,0,0,0,0,0,{"$f":"MOD(ROUNDDOWN(IF(C31=\"Disable\",0,IF(C31<=40,3,IF(C31=60,1,2)))/2,0),2)","v":0},0,0,0,{"$f":"MOD(IF(C31=\"Disable\",0,IF(C31<=40,3,IF(C31=60,1,2))),2)","v":1},0,0,1,0,0,0,0,0,0,0,0,0,1,1,0,0,0,1]
[null,"CS0_MR0","15208030",0,0,0,1,{"$f":"MOD(ROUNDDOWN((ROUNDUP(15/C24,0)-4)/4,0),2)","v":0},{"$f":"MOD(ROUNDDOWN((ROUNDUP(15/C24,0)-4)/2,0),2)","v":1},{"$f":"MOD((ROUNDUP(15/C24,0)-4),2)","v":0},1,0,{"$f":"MOD(ROUNDDOWN((ROUNDUP(C14/C24,0)-4)/4,0),2)","v":0},{"$f":"MOD(ROUNDDOWN((ROUNDUP(C14/C24,0)-4)/2,0),2)","v":1},{"$f":"MOD((ROUNDUP(C14/C24,0)-4),2)","v":0},0,0,0,0,1,0,0,0,0,0,0,0,0,0,1,1,0,0,0,0]
[null,"CS0_ZQ","04008040",0,0,0,0,0,1,0,0,0,0,0,0,0,0,0,0,1,0,0,0,0,0,0,0,0,1,0,0,0,0,0,0]
[null,"CS1_MR2","0200803A",0,0,0,0,0,{"$f":"I358","v":0},{"$f":"J358","v":1},0,{"$f":"IF(C12=\"Normal\",0,0)","v":0},0,{"$f":"N358","v":0},{"$f":"O358","v":0},{"$f":"P358","v":0},0,0,0,1,0,0,0,0,0,0,0,0,0,1,1,1,0,1,0]
[null,"CS1_MR3","0000803B",0,0,0,0,0,0,0,0,0,0,0,0,0,0,0,0,1,0,0,0,0,0,0,0,0,0,1,1,1,0,1,1]
[null,"CS1_MR1","00048039",0,0,0,0,0,0,{"$f":"J360","v":0},0,0,{"$f":"M360","v":0},0,0,0,{"$f":"Q360","v":1},0,0,1,0,0,0,0,0,0,0,0,0,1,1,1,0,0,1]
[null,"CS1_MR0","15208038",0,0,0,1,{"$f":"H361","v":0},{"$f":"I361","v":1},{"$f":"J361","v":0},1,0,{"$f":"M361","v":0},{"$f":"N361","v":1},{"$f":"O361","v":0},0,{"$f":"Q361","v":0},0,0,1,0,0,0,0,0,0,0,0,0,1,1,1,0,0,0]
[null,"CS1_ZQ","04008048",0,0,0,0,0,1,0,0,0,0,0,0,0,0,0,0,1,0,0,0,0,0,0,0,0,1,0,0,1,0,0,0]
[]
[null,"Register address (HEX): ","register value (hex)",31,30,29,28,27,26,25,24,23,22,21,20,19,18,17,16,15,14,13,12,11,10,9,8,7,6,5,4,3,2,1,0]
[null,"MDREF",null,"REF_CNT",{"$nulls":15},"REF_SEL",null,"REFR",{"$nulls":12},"START_REF"]
[]
[null,"0x021b0020",{"$f":"BIN2HEX(D372&E372&F372&G372)&BIN2HEX(H372&I372&J372&K372)&BIN2HEX(L372&M372&N372&O372)&BIN2HEX(P372&Q372&R372&S372)&BIN2HEX(T372&U372&V372&W372)&BIN2HEX(X372&Y372&Z372&AA372)&BIN2HEX(AB372&AC372&AD372&AE372)&BIN2HEX(AF372&AG372&AH372&AI372)","v":"00007800"},0,0,0,0,0,0,0,0,0,0,0,0,0,0,0,0,0,1,1,1,1,0,0,0,0,0,0,0,0,0,0,0]
[]
[null,"Register address (HEX): ","register value (hex)",31,30,29,28,27,26,25,24,23,22,21,20,19,18,17,16,15,14,13,12,11,10,9,8,7,6,5,4,3,2,1,0]
[null,"MPODTCTRL",{"$nulls":22},"ODT1_INT_RES",{"$nulls":3},"ODT0_INT_RES",null,null,"ODT_RD_ACT_EN","ODT_RD_PAS_EN","ODT_WR_ACT_EN","ODT_WR_PAS_EN"]
[]
[null,"0x021b0818",{"$f":"BIN2HEX(D377&E377&F377&G377)&BIN2HEX(H377&I377&J377&K377)&BIN2HEX(L377&M377&N377&O377)&BIN2HEX(P377&Q377&R377&S377)&BIN2HEX(T377&U377&V377&W377)&BIN2HEX(X377&Y377&Z377&AA377)&BIN2HEX(AB377&AC377&AD377&AE377)&BIN2HEX(AF377&AG377&AH377&AI377)","v":"00000227"},0,0,0,0,0,0,0,0,0,0,0,0,0,0,0,0,0,0,0,0,0,{"$f":"IF(C31=\"Disable\",0,MOD(ROUNDDOWN(ROUND(IF(C21=1,120/C31,1),0)/4,0),2))","v":0},{"$f":"IF(C31=\"Disable\",0,MOD(ROUNDDOWN(ROUND(IF(C21=1,120/C31,1),0)/2,0),2))","v":1},{"$f":"IF(C31=\"Disable\",0,MOD(ROUND(IF(C21=1,120/C31,1),0),2))","v":0},0,{"$f":"IF(C31=\"Disable\",0,MOD(ROUNDDOWN(ROUND(IF(C21=1,120/C31,1),0)/4,0),2))","v":0},{"$f":"IF(C31=\"Disable\",0,MOD(ROUNDDOWN(ROUND(IF(C21=1,120/C31,1),0)/2,0),2))","v":1},{"$f":"IF(C31=\"Disable\",0,MOD(ROUND(IF(C21=1,120/C31,1),0),2))","v":0},0,1,1,1]
[null,"0x021b4818",{"$f":"C377","v":"00000227"},0,0,0,0,0,0,0,0,0,0,0,0,0,0,0,0,0,0,0,0,0,0,0,0,0,0,0,0,0,0,0,0]
[]
[null,"Register address (HEX): ","register value (hex)",31,30,29,28,27,26,25,24,23,22,21,20,19,18,17,16,15,14,13,12,11,10,9,8,7,6,5,4,3,2,1,0]
[null,"MDPDC",null,null,"PRCT_1",{"$nulls":3},"PRCT_0",{"$nulls":7},"tCKE",null,null,"PWDT_1",{"$nulls":3},"PWDT_0",{"$nulls":3},"SL_OW_PD","BOTH_CS_PD","tCKSRX",null,null,"tCKSRE"]
[]
[null,"0x021b0004",{"$f":"BIN2HEX(D383&E383&F383&G383)&BIN2HEX(H383&I383&J383&K383)&BIN2HEX(L383&M383&N383&O383)&BIN2HEX(P383&Q383&R383&S383)&BIN2HEX(T383&U383&V383&W383)&BIN2HEX(X383&Y383&Z383&AA383)&BIN2HEX(AB383&AC383&AD383&AE383)&BIN2HEX(AF383&AG383&AH383&AI383)","v":"0002556D"},0,0,0,0,0,0,0,0,0,0,0,0,0,{"$f":"Q303","v":0},{"$f":"R303","v":1},{"$f":"S303","v":0},0,1,0,1,0,1,0,1,0,1,{"$f":"AD303","v":"1"},"0","1","1","0","1"]
[]
[null,"Register address (HEX): ","register value (hex)",31,30,29,28,27,26,25,24,23,22,21,20,19,18,17,16,15,14,13,12,11,10,9,8,7,6,5,4,3,2,1,0]
[null,"MAPSR",{"$nulls":11},"DVFS","LPMD",{"$nulls":4},"PST",{"$nulls":14},"PSD"]
[]
[null,"0x021b0404",{"$f":"BIN2HEX(D388&E388&F388&G388)&BIN2HEX(H388&I388&J388&K388)&BIN2HEX(L388&M388&N388&O388)&BIN2HEX(P388&Q388&R388&S388)&BIN2HEX(T388&U388&V388&W388)&BIN2HEX(X388&Y388&Z388&AA388)&BIN2HEX(AB388&AC388&AD388&AE388)&BIN2HEX(AF388&AG388&AH388&AI388)","v":"00011006"},0,0,0,0,0,0,0,0,0,0,0,0,0,0,0,1,0,0,0,1,0,0,0,0,0,0,0,0,0,1,1,0]

{"sheet":"RealView .inc","index":2,"n_rows":152,"n_cols":4,"rows_kept":152}
["//============================================================================="]
[{"$f":"\"//init script for \"&'Register Configuration'!$C$18&\" DDR3\"","v":"//init script for i.MX6UL DDR3"}]
["//============================================================================="]
["// Revision History"]
["// v01"]
["//============================================================================="]
[]
["wait = on"]
["//============================================================================="]
["// Disable","WDOG"]
["//============================================================================="]
["setmem /16","0x020bc000 =","0x30"]
[]
["//============================================================================="]
["// Enable all clocks (they are disabled by ROM code)"]
["//============================================================================="]
["setmem /32","0x020c4068 =","0xffffffff"]
["setmem /32","0x020c406c =","0xffffffff"]
["setmem /32","0x020c4070 =","0xffffffff"]
["setmem /32","0x020c4074 =","0xffffffff"]
["setmem /32","0x020c4078 =","0xffffffff"]
["setmem /32","0x020c407c =","0xffffffff"]
["setmem /32","0x020c4080 =","0xffffffff"]
[]
[]
["//============================================================================="]
["// IOMUX"]
["//============================================================================="]
["//DDR IO TYPE:"]
["setmem /32","0x020e04b4 =",{"$f":"\"0x\"&'Register Configuration'!$C$36","v":"0x000C0000"},"// IOMUXC_SW_PAD_CTL_GRP_DDR_TYPE "]
["setmem /32","0x020e04ac =",{"$f":"\"0x\"&'Register Configuration'!$C$41","v":"0x00000000"},"// IOMUXC_SW_PAD_CTL_GRP_DDRPKE "]
[]
["//CLOCK:"]
["setmem /32","0x020e027c =",{"$f":"\"0x\"&'Register Configuration'!$C$46","v":"0x00000028"},"// IOMUXC_SW_PAD_CTL_PAD_DRAM_SDCLK_0"]
[]
["//ADDRESS:"]
["setmem /32","0x020e0250 =",{"$f":"\"0x\"&'Register Configuration'!$C$56","v":"0x00000028"},"// IOMUXC_SW_PAD_CTL_PAD_DRAM_CAS"]
["setmem /32","0x020e024c =",{"$f":"\"0x\"&'Register Configuration'!$C$61","v":"0x00000028"},"// IOMUXC_SW_PAD_CTL_PAD_DRAM_RAS"]
["setmem /32","0x020e0490 =",{"$f":"\"0x\"&'Register Configuration'!$C$66","v":"0x00000028"},"// IOMUXC_SW_PAD_CTL_GRP_ADDDS "]
[]
["//Control:"]
["setmem /32","0x020e0288 =",{"$f":"\"0x\"&'Register Configuration'!$C$71","v":"0x00000028"},"// IOMUXC_SW_PAD_CTL_PAD_DRAM_RESET"]
["setmem /32","0x020e0270 =",{"$f":"\"0x\"&'Register Configuration'!$C$76","v":"0x00000000"},"// IOMUXC_SW_PAD_CTL_PAD_DRAM_SDBA2 - DSE can be configured using Group Control Register: IOMUXC_SW_PAD_CTL_GRP_CTLDS"]
["setmem /32","0x020e0260 =",{"$f":"\"0x\"&'Register Configuration'!$C$81","v":"0x00000028"},"// IOMUXC_SW_PAD_CTL_PAD_DRAM_SDODT0"]
["setmem /32","0x020e0264 =",{"$f":"\"0x\"&'Register Configuration'!$C$86","v":"0x00000028"},"// IOMUXC_SW_PAD_CTL_PAD_DRAM_SDODT1"]
["setmem /32","0x020e04a0 =",{"$f":"\"0x\"&'Register Configuration'!$C$91","v":"0x00000028"},"// IOMUXC_SW_PAD_CTL_GRP_CTLDS "]
[]
["//Data Strobes:"]
["setmem /32","0x020e0494 =",{"$f":"\"0x\"&'Register Configuration'!$C$96","v":"0x00020000"},"// IOMUXC_SW_PAD_CTL_GRP_DDRMODE_CTL "]
["setmem /32","0x020e0280 =",{"$f":"\"0x\"&'Register Configuration'!$C$101","v":"0x00000028"},"// IOMUXC_SW_PAD_CTL_PAD_DRAM_SDQS0 "]
["setmem /32","0x020e0284 =",{"$f":"\"0x\"&'Register Configuration'!$C$106","v":"0x00000028"},"// IOMUXC_SW_PAD_CTL_PAD_DRAM_SDQS1 "]
[]
["//Data:"]
["setmem /32","0x020e04b0 =",{"$f":"\"0x\"&'Register Configuration'!$C$141","v":"0x00020000"},"// IOMUXC_SW_PAD_CTL_GRP_DDRMODE"]
["setmem /32","0x020e0498 =",{"$f":"\"0x\"&'Register Configuration'!$C$146","v":"0x00000028"},"// IOMUXC_SW_PAD_CTL_GRP_B0DS "]
["setmem /32","0x020e04a4 =",{"$f":"\"0x\"&'Register Configuration'!$C$151","v":"0x00000028"},"// IOMUXC_SW_PAD_CTL_GRP_B1DS "]
[]
["setmem /32","0x020e0244 =",{"$f":"\"0x\"&'Register Configuration'!$C$186","v":"0x00000028"},"// IOMUXC_SW_PAD_CTL_PAD_DRAM_DQM0"]
["setmem /32","0x020e0248 =",{"$f":"\"0x\"&'Register Configuration'!$C$191","v":"0x00000028"},"// IOMUXC_SW_PAD_CTL_PAD_DRAM_DQM1"]
[]
[]
["//============================================================================="]
["// DDR Controller Registers"]
["//============================================================================="]
["// Manufacturer:",{"$f":"'Register Configuration'!C3","v":"Micron"}]
["// Device Part Number:",{"$f":"'Register Configuration'!C4","v":"MT41K256M16HA-125"}]
["// Clock Freq.: ",{"$f":"'Register Configuration'!C23&\"MHz\"","v":"400MHz"}]
["// Density per CS in Gb: ",{"$f":"'Register Configuration'!C20","v":4}]
["// Chip Selects used:",{"$f":"'Register Configuration'!C21","v":1}]
["// Number of Banks:",{"$f":"'Register Configuration'!C8","v":8}]
["// Row address:    ",{"$f":"'Register Configuration'!C9","v":15}]
["// Column address: ",{"$f":"'Register Configuration'!C10","v":10}]
["// Data bus width",{"$f":"'Register Configuration'!C19","v":16}]
["//============================================================================="]
["setmem /32","0x021b001c =",{"$f":"\"0x\"&'Register Configuration'!$C$333","v":"0x00008000"},"// MMDC0_MDSCR, set the Configuration request bit during MMDC set up"]
[]
["//============================================================================="]
["// Calibration setup."]
["//============================================================================="]
["setmem /32","0x021b0800 =",{"$f":"\"0x\"&'Register Configuration'!$C$226","v":"0xA1390003"},"// DDR_PHY_P0_MPZQHWCTRL, enable both one-time & periodic HW ZQ calibration."]
[]
["// For target board, may need to run write leveling calibration to fine tune these settings."]
["setmem /32","0x021b080c  =",{"$f":"\"0x\"&'Register Configuration'!$C$231","v":"0x00000000"}]
[]
["//Read DQS Gating calibration"]
["setmem /32","0x021b083c =",{"$f":"\"0x\"&'Register Configuration'!$C$243","v":"0x00000000"},"// MPDGCTRL0 PHY0"]
[]
["//Read calibration"]
["setmem /32","0x021b0848 =",{"$f":"\"0x\"&'Register Configuration'!$C$255","v":"0x40404040"},"// MPRDDLCTL PHY0"]
[]
["//Write calibration                     "]
["setmem /32","0x021b0850 =",{"$f":"\"0x\"&'Register Configuration'!$C$261","v":"0x40404040"},"// MPWRDLCTL PHY0"]
[]
["//read data bit delay: (3 is the reccommended default value, although out of reset value is 0)"]
["setmem /32","0x021b081c =",{"$f":"\"0x\"&'Register Configuration'!$C$267","v":"0x33333333"},"// MMDC_MPRDDQBY0DL"]
["setmem /32","0x021b0820 =",{"$f":"\"0x\"&'Register Configuration'!$C$273","v":"0x33333333"},"// MMDC_MPRDDQBY1DL"]
[]
["//write data bit delay: "]
["setmem /32","0x021b082c =","0xF3333333","// MMDC_MPWRDQBY0DL"]
["setmem /32","0x021b0830 =","0xF3333333","// MMDC_MPWRDQBY1DL"]
[]
["//DQS&CLK Duty Cycle"]
["setmem /32","0x021b08c0 =","0x00921012","// [MMDC_MPDCCR] MMDC Duty Cycle Control Register"]
[]
["// Complete calibration by forced measurement:                  "]
["setmem /32","0x021b08b8 = ",{"$f":"\"0x\"&'Register Configuration'!$C$297","v":"0x00000800"},"// DDR_PHY_P0_MPMUR0, frc_msr"]
["//============================================================================="]
["// Calibration setup end"]
["//============================================================================="]
[]
["//MMDC init: "]
["setmem /32","0x021b0004 =",{"$f":"\"0x\"&'Register Configuration'!$C$303","v":"0x0002002D"},"// MMDC0_MDPDC"]
["setmem /32","0x021b0008 =",{"$f":"\"0x\"&'Register Configuration'!$C$308","v":"0x1B333030"},"// MMDC0_MDOTC"]
["setmem /32","0x021b000c =",{"$f":"\"0x\"&'Register Configuration'!$C$313","v":"0x676B52F3"},"// MMDC0_MDCFG0"]
["setmem /32","0x021b0010 =",{"$f":"\"0x\"&'Register Configuration'!$C$318","v":"0xB66D0B63"},"// MMDC0_MDCFG1"]
["setmem /32","0x021b0014 =",{"$f":"\"0x\"&'Register Configuration'!$C$323","v":"0x01FF00DB"},"// MMDC0_MDCFG2"]
[]
["//MDMISC: RALAT kept to the high level of 5. "]
["//MDMISC: consider reducing RALAT if your 528MHz board design allow that. Lower RALAT benefits: "]
["//a. better operation at low frequency, for LPDDR2 freq < 100MHz, change RALAT to 3"]
["//b. Small performence improvment "]
["setmem /32","0x021b0018 =",{"$f":"\"0x\"&'Register Configuration'!$C$328","v":"0x00211740"},"// MMDC0_MDMISC"]
["setmem /32","0x021b001c =",{"$f":"\"0x\"&'Register Configuration'!$C$333","v":"0x00008000"},"// MMDC0_MDSCR, set the Configuration request bit during MMDC set up"]
["setmem /32","0x021b002c =",{"$f":"\"0x\"&'Register Configuration'!$C$338","v":"0x000026D2"},"// MMDC0_MDRWD"]
["setmem /32","0x021b0030 =",{"$f":"\"0x\"&'Register Configuration'!$C$343","v":"0x006B1023"},"// MMDC0_MDOR"]
["setmem /32","0x021b0040 =",{"$f":"\"0x\"&'Register Configuration'!$C$348","v":"0x0000004F"},"// Chan0 CS0_END "]
["setmem /32","0x021b0000 =",{"$f":"\"0x\"&'Register Configuration'!$C$353","v":"0x84180000"},"// MMDC0_MDCTL"]
[]
["setmem /32","0x021b0890 =","0x00400a38","// MPPDCMPR2"]
[]
["//Mode register writes                 "]
["setmem /32","0x021b001c =",{"$f":"\"0x\"&'Register Configuration'!$C$358","v":"0x02008032"},"// MMDC0_MDSCR, MR2 write, CS0"]
["setmem /32","0x021b001c =",{"$f":"\"0x\"&'Register Configuration'!$C$359","v":"0x00008033"},"// MMDC0_MDSCR, MR3 write, CS0"]
["setmem /32","0x021b001c =",{"$f":"\"0x\"&'Register Configuration'!$C$360","v":"0x00048031"},"// MMDC0_MDSCR, MR1 write, CS0"]
["setmem /32","0x021b001c =",{"$f":"\"0x\"&'Register Configuration'!$C$361","v":"0x15208030"},"// MMDC0_MDSCR, MR0write, CS0"]
["setmem /32","0x021b001c =",{"$f":"\"0x\"&'Register Configuration'!$C$362","v":"0x04008040"},"// MMDC0_MDSCR, ZQ calibration command sent to device on CS0"]
[]
[{"$f":"IF('Register Configuration'!$C$21=1,\"//\",\"\")&\"setmem /32\"","v":"//setmem /32"},"0x021b001c =",{"$f":"\"0x\"&'Register Configuration'!$C$363","v":"0x0200803A"},"// MMDC0_MDSCR, MR2 write, CS1"]
[{"$f":"IF('Register Configuration'!$C$21=1,\"//\",\"\")&\"setmem /32\"","v":"//setmem /32"},"0x021b001c =",{"$f":"\"0x\"&'Register Configuration'!$C$364","v":"0x0000803B"},"// MMDC0_MDSCR, MR3 write, CS1"]
[{"$f":"IF('Register Configuration'!$C$21=1,\"//\",\"\")&\"setmem /32\"","v":"//setmem /32"},"0x021b001c =",{"$f":"\"0x\"&'Register Configuration'!$C$365","v":"0x00048039"},"// MMDC0_MDSCR, MR1 write, CS1"]
[{"$f":"IF('Register Configuration'!$C$21=1,\"//\",\"\")&\"setmem /32\"","v":"//setmem /32"},"0x021b001c =",{"$f":"\"0x\"&'Register Configuration'!$C$366","v":"0x15208038"},"// MMDC0_MDSCR, MR0write, CS1"]
[{"$f":"IF('Register Configuration'!$C$21=1,\"//\",\"\")&\"setmem /32\"","v":"//setmem /32"},"0x021b001c =",{"$f":"\"0x\"&'Register Configuration'!$C$367","v":"0x04008048"},"// MMDC0_MDSCR, ZQ calibration command sent to device on CS1"]
[]
["setmem /32","0x021b0020 =",{"$f":"\"0x\"&'Register Configuration'!$C$372","v":"0x00007800"},"// MMDC0_MDREF"]
[]
["setmem /32","0x021b0818 =",{"$f":"\"0x\"&'Register Configuration'!$C$377","v":"0x00000227"},"// DDR_PHY_P0_MPODTCTRL"]
[]
["setmem /32","0x021b0004 =",{"$f":"\"0x\"&'Register Configuration'!$C$383","v":"0x0002556D"},"// MMDC0_MDPDC now SDCTL power down enabled"]
[]
["setmem /32","0x021b0404 =",{"$f":"\"0x\"&'Register Configuration'!$C$388","v":"0x00011006"},"// MMDC0_MAPSR ADOPT power down enabled, MMDC will enter automatically to self-refresh while the number of idle cycle reached."]
[]
["setmem /32","0x021b001c =","0x00000000","// MMDC0_MDSCR, clear this register (especially the configuration bit as initialization is complete)"]